BEGIN:VCALENDAR
VERSION:2.0
PRODID:-//Rhea County Tourism - ECPv6.15.20//NONSGML v1.0//EN
CALSCALE:GREGORIAN
METHOD:PUBLISH
X-ORIGINAL-URL:https://visitrhea.com
X-WR-CALDESC:Events for Rhea County Tourism
REFRESH-INTERVAL;VALUE=DURATION:PT1H
X-Robots-Tag:noindex
X-PUBLISHED-TTL:PT1H
BEGIN:VTIMEZONE
TZID:UTC
BEGIN:STANDARD
TZOFFSETFROM:+0000
TZOFFSETTO:+0000
TZNAME:UTC
DTSTART:20240101T000000
END:STANDARD
END:VTIMEZONE
BEGIN:VEVENT
DTSTART;VALUE=DATE:20250304
DTEND;VALUE=DATE:20250510
DTSTAMP:20260424T162830
CREATED:20250305T172604Z
LAST-MODIFIED:20250417T185213Z
UID:10000454-1741046400-1746835199@visitrhea.com
SUMMARY:Couch to 5K Training
DESCRIPTION:The Couch-to-5K program is designed to move new runners or it’s-been-awhile runners to completion of a 5K through a 10-week program that includes 3 workouts per week for 30-45 minutes. \nMARCH 4\,2025 – MAY 9\, 2025 END GOAL: THE STRAWBERRY CHASE 5K! \nTRAINING BEGINS: MARCH 4\, 2024 \nTRAINING 3 DAYS A WEEK: TUESDAYS & THURSDAYS @ 5:30 PM & SATURDAYS @ 8:OOAM \nCOMPLETE THE TRAINING AND RECEIVE $5 OFF THE STRAWBERRY CHASE! REGISTER AT RC3: $10 MEMBERS / $15 NON-MEMBERS \n  \nQuestions? Contact Sarah K. Harrell at Rc3:  423-775-0821
URL:https://visitrhea.com/event/couch-to-5k-training/
LOCATION:Rhea County Community Center\, 232 4th Avenue\, Dayton\, Tennessee\, 37321
ATTACH;FMTTYPE=image/jpeg:https://visitrhea.com/wp-content/uploads/2025/03/1744915550120-6e054e82-34b0-48ca-8a86-e411258f280d_7-1.jpg
END:VEVENT
BEGIN:VEVENT
DTSTART;VALUE=DATE:20250505
DTEND;VALUE=DATE:20250511
DTSTAMP:20260424T162830
CREATED:20250305T172940Z
LAST-MODIFIED:20250305T172940Z
UID:10000455-1746403200-1746921599@visitrhea.com
SUMMARY:78th Annual Strawberry Festival
DESCRIPTION:
URL:https://visitrhea.com/event/78th-annual-strawberry-festival/
LOCATION:Tennessee
END:VEVENT
BEGIN:VEVENT
DTSTART;VALUE=DATE:20250506
DTEND;VALUE=DATE:20250510
DTSTAMP:20260424T162830
CREATED:20241119T174231Z
LAST-MODIFIED:20241119T174231Z
UID:10000161-1746489600-1746835199@visitrhea.com
SUMMARY:NACA: National Baseball & Softball Tournament
DESCRIPTION:East Ridge\, TN
URL:https://visitrhea.com/event/naca-national-baseball-softball-tournament/
LOCATION:Tennessee
END:VEVENT
BEGIN:VEVENT
DTSTART;VALUE=DATE:20250509
DTEND;VALUE=DATE:20250511
DTSTAMP:20260424T162830
CREATED:20250122T170443Z
LAST-MODIFIED:20250122T170443Z
UID:10000395-1746748800-1746921599@visitrhea.com
SUMMARY:Fishing Tournament - Heartland Anglers Championship
DESCRIPTION:Boat Count: 200
URL:https://visitrhea.com/event/fishing-tournament-heartland-anglers-championship/
LOCATION:Dayton Boat Dock\, 175 Lakeshore Dr\, Dayton\, Tennessee\, 37321
END:VEVENT
BEGIN:VEVENT
DTSTART;TZID=UTC:20250509T090000
DTEND;TZID=UTC:20250509T210000
DTSTAMP:20260424T162830
CREATED:20241118T210254Z
LAST-MODIFIED:20241118T210254Z
UID:10000128-1746781200-1746824400@visitrhea.com
SUMMARY:Rhea County Strawberry Festival: Food and Craft Vendors
DESCRIPTION:
URL:https://visitrhea.com/event/rhea-county-strawberry-festival-food-and-craft-vendors/
LOCATION:Tennessee
END:VEVENT
BEGIN:VEVENT
DTSTART;TZID=UTC:20250509T170000
DTEND;TZID=UTC:20250509T190000
DTSTAMP:20260424T162830
CREATED:20241118T210331Z
LAST-MODIFIED:20250528T160910Z
UID:10000129-1746810000-1746817200@visitrhea.com
SUMMARY:Happy Hour
DESCRIPTION:
URL:https://visitrhea.com/event/happy-hour-27/
LOCATION:Watts Bar Beer Works\, 353 Front St\, Spring City\, TN\, 37381\, United States
END:VEVENT
BEGIN:VEVENT
DTSTART;TZID=UTC:20250509T170000
DTEND;TZID=UTC:20250509T220000
DTSTAMP:20260424T162830
CREATED:20241118T210524Z
LAST-MODIFIED:20241118T210524Z
UID:10000130-1746810000-1746828000@visitrhea.com
SUMMARY:Rhea County Strawberry Festival: Annual Cruise-In
DESCRIPTION:
URL:https://visitrhea.com/event/rhea-county-strawberry-festival-annual-cruise-in/
LOCATION:Tennessee
END:VEVENT
BEGIN:VEVENT
DTSTART;TZID=UTC:20250509T170000
DTEND;TZID=UTC:20250509T220000
DTSTAMP:20260424T162830
CREATED:20241118T210633Z
LAST-MODIFIED:20241118T210633Z
UID:10000131-1746810000-1746828000@visitrhea.com
SUMMARY:Rhea County Strawberry Festival: Live Entertainment
DESCRIPTION:Live entertainment on the Centennial Park Stage!
URL:https://visitrhea.com/event/rhea-county-strawberry-festival-live-entertainment/
LOCATION:Centennial Park\, 391 Second Avenue\, Dayton\, Tennessee
END:VEVENT
END:VCALENDAR