BEGIN:VCALENDAR
VERSION:2.0
PRODID:-//Rhea County Tourism - ECPv6.15.20//NONSGML v1.0//EN
CALSCALE:GREGORIAN
METHOD:PUBLISH
X-ORIGINAL-URL:https://visitrhea.com
X-WR-CALDESC:Events for Rhea County Tourism
REFRESH-INTERVAL;VALUE=DURATION:PT1H
X-Robots-Tag:noindex
X-PUBLISHED-TTL:PT1H
BEGIN:VTIMEZONE
TZID:UTC
BEGIN:STANDARD
TZOFFSETFROM:+0000
TZOFFSETTO:+0000
TZNAME:UTC
DTSTART:20240101T000000
END:STANDARD
END:VTIMEZONE
BEGIN:VEVENT
DTSTART;VALUE=DATE:20250801
DTEND;VALUE=DATE:20250901
DTSTAMP:20260423T085137
CREATED:20250827T142537Z
LAST-MODIFIED:20250827T142537Z
UID:10002159-1754006400-1756684799@visitrhea.com
SUMMARY:Rhea Richlands Senior Neighbors August Calendar
DESCRIPTION:
URL:https://visitrhea.com/event/rhea-richlands-senior-neighbors-august-calendar/
LOCATION:TN
ATTACH;FMTTYPE=image/jpeg:https://visitrhea.com/wp-content/uploads/2025/08/Rhea-Richlands-scaled.jpg
END:VEVENT
BEGIN:VEVENT
DTSTART;TZID=UTC:20250801T170000
DTEND;TZID=UTC:20250801T190000
DTSTAMP:20260423T085137
CREATED:20241119T204139Z
LAST-MODIFIED:20250528T153934Z
UID:10000203-1754067600-1754074800@visitrhea.com
SUMMARY:Happy Hour
DESCRIPTION:
URL:https://visitrhea.com/event/happy-hour-39/
LOCATION:Watts Bar Beer Works\, 353 Front St\, Spring City\, TN\, 37381\, United States
END:VEVENT
BEGIN:VEVENT
DTSTART;TZID=UTC:20250801T170000
DTEND;TZID=UTC:20250801T210000
DTSTAMP:20260423T085137
CREATED:20250708T183629Z
LAST-MODIFIED:20250708T183629Z
UID:10001671-1754067600-1754082000@visitrhea.com
SUMMARY:Family Dance Party
DESCRIPTION:Dayton’s 2nd Annual Dance Party \nFree fun for the whole family! \nFood starts at 5:00 pm \nDancing from 6:00 – 9:00 pm \nFor more information\, call Jill at 423-664-5251
URL:https://visitrhea.com/event/family-dance-party/
LOCATION:Rhea County Community Center\, 232 4th Avenue\, Dayton\, Tennessee\, 37321
ATTACH;FMTTYPE=image/jpeg:https://visitrhea.com/wp-content/uploads/2025/07/Family-Dance-Party.jpg
END:VEVENT
BEGIN:VEVENT
DTSTART;TZID=UTC:20250801T180000
DTEND;TZID=UTC:20250801T230000
DTSTAMP:20260423T085137
CREATED:20250707T160114Z
LAST-MODIFIED:20250707T160114Z
UID:10001667-1754071200-1754089200@visitrhea.com
SUMMARY:Spring City Summer Nights
DESCRIPTION:Spring City Summer Nights – Fun for the Whole Family!Nature Park\, Spring City \nEvent Schedule: \n\n\nFood Trucks & Craft Vendors: 6:00 PM – 11:00 PM \n\n\nCruise-In: 6:00 PM – 8:00 PM \n\n\nLive Music\, Games & Bounce Houses: Throughout the evening \n\n\nFree Outdoor Movie: 8:30 PM – 10:30 PM(Bring a lawn chair or blanket and enjoy the show!) \n\n\nCome early to grab a good spot\, enjoy great food\, and take in the sights\, sounds\, and summer breeze. Wear comfortable clothes and bring the whole family for a relaxing evening under the stars. \nFor more info\, call (423) 682-0007
URL:https://visitrhea.com/event/spring-city-summer-nights/2025-08-01/
LOCATION:Spring City Nature Park\, 549 Front St\,\, Spring City\, Tennessee\, 37381\, United States
ATTACH;FMTTYPE=image/jpeg:https://visitrhea.com/wp-content/uploads/2025/04/SC-Summer-Nights-scaled.jpg
END:VEVENT
END:VCALENDAR