BEGIN:VCALENDAR
VERSION:2.0
PRODID:-//Rhea County Tourism - ECPv6.15.18//NONSGML v1.0//EN
CALSCALE:GREGORIAN
METHOD:PUBLISH
X-WR-CALNAME:Rhea County Tourism
X-ORIGINAL-URL:https://visitrhea.com
X-WR-CALDESC:Events for Rhea County Tourism
REFRESH-INTERVAL;VALUE=DURATION:PT1H
X-Robots-Tag:noindex
X-PUBLISHED-TTL:PT1H
BEGIN:VTIMEZONE
TZID:UTC
BEGIN:STANDARD
TZOFFSETFROM:+0000
TZOFFSETTO:+0000
TZNAME:UTC
DTSTART:20240101T000000
END:STANDARD
END:VTIMEZONE
BEGIN:VEVENT
DTSTART;VALUE=DATE:20250801
DTEND;VALUE=DATE:20250901
DTSTAMP:20260421T111407
CREATED:20250827T142537Z
LAST-MODIFIED:20250827T142537Z
UID:10002159-1754006400-1756684799@visitrhea.com
SUMMARY:Rhea Richlands Senior Neighbors August Calendar
DESCRIPTION:
URL:https://visitrhea.com/event/rhea-richlands-senior-neighbors-august-calendar/
LOCATION:Tennessee
ATTACH;FMTTYPE=image/jpeg:https://visitrhea.com/wp-content/uploads/2025/08/Rhea-Richlands-scaled.jpg
END:VEVENT
BEGIN:VEVENT
DTSTART;VALUE=DATE:20250805
DTEND;VALUE=DATE:20250817
DTSTAMP:20260421T111407
CREATED:20250805T141423Z
LAST-MODIFIED:20250805T142447Z
UID:10002039-1754352000-1755388799@visitrhea.com
SUMMARY:Rc3 Flag Football
DESCRIPTION:Ages 6 – 14 \nRegistration: July 14 – August 16th \nSeason Dates: September 5 – November 1 \nPractices begin August 25\, Games played on Saturday Morning
URL:https://visitrhea.com/event/rc3-flag-football/
LOCATION:Rhea County Community Center\, 232 4th Avenue\, Dayton\, Tennessee\, 37321
ATTACH;FMTTYPE=image/jpeg:https://visitrhea.com/wp-content/uploads/2025/08/Flag-Football-scaled.jpg
END:VEVENT
BEGIN:VEVENT
DTSTART;VALUE=DATE:20250805
DTEND;VALUE=DATE:20250817
DTSTAMP:20260421T111407
CREATED:20250805T141853Z
LAST-MODIFIED:20250805T142416Z
UID:10002040-1754352000-1755388799@visitrhea.com
SUMMARY:Rc3 Fall Volleyball
DESCRIPTION:Girls in Grades 3 – 12 \nRegistration is open!! Now through August 16th! \nFree Pre-Season Clinic August 14th from 5:30 – 6:45 pm \n\nGrading Day – August 16\n9 am Grades 3 – 5\n10 am Grades 6 – 12\nPractices begin August 25\nSeason Dates – September 6 – November 1
URL:https://visitrhea.com/event/rc3-fall-volleyball/
LOCATION:Rhea County Community Center\, 232 4th Avenue\, Dayton\, Tennessee\, 37321
ATTACH;FMTTYPE=image/jpeg:https://visitrhea.com/wp-content/uploads/2025/08/Fall-Volleyball-scaled.jpg
END:VEVENT
BEGIN:VEVENT
DTSTART;VALUE=DATE:20250805
DTEND;VALUE=DATE:20250817
DTSTAMP:20260421T111407
CREATED:20250805T143446Z
LAST-MODIFIED:20250805T143446Z
UID:10002042-1754352000-1755388799@visitrhea.com
SUMMARY:Rc3 Dance!
DESCRIPTION:Registration is now open! \nCreative Movement Thursdays at 3 pm; 3 – 5 year-olds \nDance Style Technique Thursdays at 4 pm; K-3rd grade \n  \nFall Session 1: September 4 – October 30 (8 weeks) \nCall 423-775-0821 for more information \n 
URL:https://visitrhea.com/event/rc3-dance/
LOCATION:Tennessee
ATTACH;FMTTYPE=image/jpeg:https://visitrhea.com/wp-content/uploads/2025/08/Rc3-Dance-scaled.jpg
END:VEVENT
BEGIN:VEVENT
DTSTART;VALUE=DATE:20250805
DTEND;VALUE=DATE:20250819
DTSTAMP:20260421T111407
CREATED:20250805T142339Z
LAST-MODIFIED:20250805T142339Z
UID:10002041-1754352000-1755561599@visitrhea.com
SUMMARY:Rc3 Soccer
DESCRIPTION:Registration now open through August 18! \nAges 4 – 15 \nFree Clinic August 14 at 5:30 pm at Delaware Fields
URL:https://visitrhea.com/event/rc3-soccer/
LOCATION:Tennessee
ATTACH;FMTTYPE=image/jpeg:https://visitrhea.com/wp-content/uploads/2025/08/Rc3-Soccer-scaled.jpg
END:VEVENT
BEGIN:VEVENT
DTSTART;VALUE=DATE:20250805
DTEND;VALUE=DATE:20250909
DTSTAMP:20260421T111407
CREATED:20250805T144524Z
LAST-MODIFIED:20250805T145048Z
UID:10002106-1754352000-1757375999@visitrhea.com
SUMMARY:Fall Sports Programs
DESCRIPTION:Soccer: Ages 4 – 15; Registration July 14 – August 18 \nVolleyball: Girls 3rd – 12th Grades; Registration July 14 – August 16 \nFlag Football: Ages 6 -14; Registration July 14 – August 16 \nBaseball: Ages 4 – 12; Registration August 4 – Sept 8 \nTumbling: Ages 3 – High School; Registration Opened July 21 \nDance: Ages 3 – 3rd Grade; Registration Opened July 14
URL:https://visitrhea.com/event/fall-sports-programs/
LOCATION:Rhea County Community Center\, 232 4th Avenue\, Dayton\, Tennessee\, 37321
ATTACH;FMTTYPE=image/jpeg:https://visitrhea.com/wp-content/uploads/2025/08/Fall-Sports-Programs-scaled.jpg
END:VEVENT
BEGIN:VEVENT
DTSTART;TZID=UTC:20250811T153000
DTEND;TZID=UTC:20251217T173000
DTSTAMP:20260421T111407
CREATED:20250805T140400Z
LAST-MODIFIED:20250805T142556Z
UID:10002037-1754926200-1765992600@visitrhea.com
SUMMARY:Spark! After School
DESCRIPTION:With Rc3 Kids \nOffered K-5th Grade \nMonday – Friday 3:30-5:30 pm \nAugust 11th- December 17th \n  \nFree Tutoring! Tuesdays & Thursdays \n3:30 – 5:30 pm \nAugust 19th – December 11th \nTutoring provided by Trinity Learning Center \n  \nContact us: 423-775-0821
URL:https://visitrhea.com/event/spark-after-school/
LOCATION:Rhea County Community Center\, 232 4th Avenue\, Dayton\, Tennessee\, 37321
ATTACH;FMTTYPE=image/jpeg:https://visitrhea.com/wp-content/uploads/2025/08/Spark-after-school.jpg
END:VEVENT
BEGIN:VEVENT
DTSTART;TZID=UTC:20250814T120000
DTEND;TZID=UTC:20250814T130000
DTSTAMP:20260421T111407
CREATED:20250805T201749Z
LAST-MODIFIED:20250805T201749Z
UID:10002127-1755172800-1755176400@visitrhea.com
SUMMARY:Munch a Lunch
DESCRIPTION:Join Jake Jacoby as he shares stories and insights from his travels around the world\, accompanied by his stunning photography. \nLight lunch will be served.
URL:https://visitrhea.com/event/munch-a-lunch-4/
LOCATION:Clyde W Roddy Library\, 371 1st Avenue\, Dayton\, Tennessee\, 37321
ATTACH;FMTTYPE=image/jpeg:https://visitrhea.com/wp-content/uploads/2025/08/Much-a-Lunch-August-2025.jpg
END:VEVENT
BEGIN:VEVENT
DTSTART;TZID=UTC:20250814T153000
DTEND;TZID=UTC:20250814T173000
DTSTAMP:20260421T111407
CREATED:20250805T201441Z
LAST-MODIFIED:20250805T201441Z
UID:10002124-1755185400-1755192600@visitrhea.com
SUMMARY:Afternoon at the Movies
DESCRIPTION:August 7: The Minecraft Movie \nAugust 14: Snow White \nAugust 21: Paddington in Peru \nAugust 28: Moana 2
URL:https://visitrhea.com/event/afternoon-at-the-movies-6/2025-08-14/
LOCATION:Clyde W Roddy Library\, 371 1st Avenue\, Dayton\, Tennessee\, 37321
END:VEVENT
BEGIN:VEVENT
DTSTART;TZID=UTC:20250814T180000
DTEND;TZID=UTC:20250814T190000
DTSTAMP:20260421T111407
CREATED:20250708T204955Z
LAST-MODIFIED:20250708T210650Z
UID:10001685-1755194400-1755198000@visitrhea.com
SUMMARY:Spring City Planning Commission Meeting (meets as needed)
DESCRIPTION:
URL:https://visitrhea.com/event/spring-city-planning-commission-meeting/2025-08-14/
LOCATION:229 Front Street\, 229 Front Street\, Spring City\, Tennessee\, 37381
END:VEVENT
BEGIN:VEVENT
DTSTART;TZID=UTC:20250814T180000
DTEND;TZID=UTC:20250814T190000
DTSTAMP:20260421T111407
CREATED:20250812T172044Z
LAST-MODIFIED:20250812T172044Z
UID:10002153-1755194400-1755198000@visitrhea.com
SUMMARY:Pat's Bunco Babes
DESCRIPTION:
URL:https://visitrhea.com/event/pats-bunco-babes/
LOCATION:Watts Bar Beer Works\, 353 Front St\, Spring City\, TN\, 37381\, United States
END:VEVENT
BEGIN:VEVENT
DTSTART;TZID=UTC:20250814T180000
DTEND;TZID=UTC:20250814T200000
DTSTAMP:20260421T111407
CREATED:20241218T150723Z
LAST-MODIFIED:20241218T150723Z
UID:10000349-1755194400-1755201600@visitrhea.com
SUMMARY:Bingo
DESCRIPTION:
URL:https://visitrhea.com/event/bingo-36/
LOCATION:Pizza King\, 4703 Dayton Mtn Hwy\, Dayton\, Tennessee
END:VEVENT
END:VCALENDAR