BEGIN:VCALENDAR
VERSION:2.0
PRODID:-//Rhea County Tourism - ECPv6.15.18//NONSGML v1.0//EN
CALSCALE:GREGORIAN
METHOD:PUBLISH
X-ORIGINAL-URL:https://visitrhea.com
X-WR-CALDESC:Events for Rhea County Tourism
REFRESH-INTERVAL;VALUE=DURATION:PT1H
X-Robots-Tag:noindex
X-PUBLISHED-TTL:PT1H
BEGIN:VTIMEZONE
TZID:UTC
BEGIN:STANDARD
TZOFFSETFROM:+0000
TZOFFSETTO:+0000
TZNAME:UTC
DTSTART:20240101T000000
END:STANDARD
END:VTIMEZONE
BEGIN:VEVENT
DTSTART;TZID=UTC:20250811T153000
DTEND;TZID=UTC:20251217T173000
DTSTAMP:20260421T124605
CREATED:20250805T140400Z
LAST-MODIFIED:20250805T142556Z
UID:10002037-1754926200-1765992600@visitrhea.com
SUMMARY:Spark! After School
DESCRIPTION:With Rc3 Kids \nOffered K-5th Grade \nMonday – Friday 3:30-5:30 pm \nAugust 11th- December 17th \n  \nFree Tutoring! Tuesdays & Thursdays \n3:30 – 5:30 pm \nAugust 19th – December 11th \nTutoring provided by Trinity Learning Center \n  \nContact us: 423-775-0821
URL:https://visitrhea.com/event/spark-after-school/
LOCATION:Rhea County Community Center\, 232 4th Avenue\, Dayton\, Tennessee\, 37321
ATTACH;FMTTYPE=image/jpeg:https://visitrhea.com/wp-content/uploads/2025/08/Spark-after-school.jpg
END:VEVENT
BEGIN:VEVENT
DTSTART;TZID=UTC:20250911T153000
DTEND;TZID=UTC:20250911T173000
DTSTAMP:20260421T124605
CREATED:20250902T134238Z
LAST-MODIFIED:20250902T134238Z
UID:10002172-1757604600-1757611800@visitrhea.com
SUMMARY:Afternoon at the Movies
DESCRIPTION:September 11th: How to Train Your Dragon \nSeptember 25th: White Fang
URL:https://visitrhea.com/event/afternoon-at-the-movies-7/2025-09-11/
LOCATION:Clyde W Roddy Library\, 371 1st Avenue\, Dayton\, Tennessee\, 37321
END:VEVENT
BEGIN:VEVENT
DTSTART;TZID=UTC:20250911T180000
DTEND;TZID=UTC:20250911T190000
DTSTAMP:20260421T124605
CREATED:20250708T204955Z
LAST-MODIFIED:20250708T210650Z
UID:10001686-1757613600-1757617200@visitrhea.com
SUMMARY:Spring City Planning Commission Meeting (meets as needed)
DESCRIPTION:
URL:https://visitrhea.com/event/spring-city-planning-commission-meeting/2025-09-11/
LOCATION:229 Front Street\, 229 Front Street\, Spring City\, Tennessee\, 37381
END:VEVENT
BEGIN:VEVENT
DTSTART;TZID=UTC:20250911T180000
DTEND;TZID=UTC:20250911T200000
DTSTAMP:20260421T124605
CREATED:20241218T151218Z
LAST-MODIFIED:20241218T151218Z
UID:10000353-1757613600-1757620800@visitrhea.com
SUMMARY:Bingo
DESCRIPTION:
URL:https://visitrhea.com/event/bingo-40/
LOCATION:Pizza King\, 4703 Dayton Mtn Hwy\, Dayton\, Tennessee
END:VEVENT
END:VCALENDAR