BEGIN:VCALENDAR
VERSION:2.0
PRODID:-//Rhea County Tourism - ECPv6.15.20//NONSGML v1.0//EN
CALSCALE:GREGORIAN
METHOD:PUBLISH
X-WR-CALNAME:Rhea County Tourism
X-ORIGINAL-URL:https://visitrhea.com
X-WR-CALDESC:Events for Rhea County Tourism
REFRESH-INTERVAL;VALUE=DURATION:PT1H
X-Robots-Tag:noindex
X-PUBLISHED-TTL:PT1H
BEGIN:VTIMEZONE
TZID:UTC
BEGIN:STANDARD
TZOFFSETFROM:+0000
TZOFFSETTO:+0000
TZNAME:UTC
DTSTART:20240101T000000
END:STANDARD
END:VTIMEZONE
BEGIN:VEVENT
DTSTART;TZID=UTC:20250811T153000
DTEND;TZID=UTC:20251217T173000
DTSTAMP:20260425T103310
CREATED:20250805T140400Z
LAST-MODIFIED:20250805T142556Z
UID:10002037-1754926200-1765992600@visitrhea.com
SUMMARY:Spark! After School
DESCRIPTION:With Rc3 Kids \nOffered K-5th Grade \nMonday – Friday 3:30-5:30 pm \nAugust 11th- December 17th \n  \nFree Tutoring! Tuesdays & Thursdays \n3:30 – 5:30 pm \nAugust 19th – December 11th \nTutoring provided by Trinity Learning Center \n  \nContact us: 423-775-0821
URL:https://visitrhea.com/event/spark-after-school/
LOCATION:Rhea County Community Center\, 232 4th Avenue\, Dayton\, Tennessee\, 37321
ATTACH;FMTTYPE=image/jpeg:https://visitrhea.com/wp-content/uploads/2025/08/Spark-after-school.jpg
END:VEVENT
BEGIN:VEVENT
DTSTART;VALUE=DATE:20251001
DTEND;VALUE=DATE:20251002
DTSTAMP:20260425T103310
CREATED:20250716T171845Z
LAST-MODIFIED:20250716T171845Z
UID:10001715-1759276800-1759363199@visitrhea.com
SUMMARY:Dayton Chamber Golf Tournament
DESCRIPTION:Dayton Chamber of Commerce Golf Classic to benefit the Rhea County Distinguished Young Women Scholarship Fund \nRegistration for a 4-person team is $280
URL:https://visitrhea.com/event/dayton-chamber-golf-tournament/
LOCATION:Dayton Golf & Country Club\, 315 Payne Lane\, Evensville\, Tennessee\, 37332
ATTACH;FMTTYPE=image/jpeg:https://visitrhea.com/wp-content/uploads/2025/07/Dayton-Golf-Tournament.jpg
END:VEVENT
BEGIN:VEVENT
DTSTART;VALUE=DATE:20251001
DTEND;VALUE=DATE:20251101
DTSTAMP:20260425T103310
CREATED:20251009T195904Z
LAST-MODIFIED:20251009T195904Z
UID:10002373-1759276800-1761955199@visitrhea.com
SUMMARY:Rhea Richland Senior Neighbors October Calendar
DESCRIPTION:
URL:https://visitrhea.com/event/rhea-richland-senior-neighbors-october-calendar/
LOCATION:Rhea Richland Senior Neighbors\, 241 Alabama Avenue\, Dayton\, Tennessee\, 37321
ATTACH;FMTTYPE=image/jpeg:https://visitrhea.com/wp-content/uploads/2025/10/IMG_20251008_0001-scaled.jpg
END:VEVENT
BEGIN:VEVENT
DTSTART;VALUE=DATE:20251001
DTEND;VALUE=DATE:20251101
DTSTAMP:20260425T103310
CREATED:20251020T163322Z
LAST-MODIFIED:20251022T140223Z
UID:10002394-1759276800-1761955199@visitrhea.com
SUMMARY:Thanksgiving Donations
DESCRIPTION:Help United Way of Rhea County Provide Thanksgiving Meals! \nUnited Way of Rhea County is asking for your support to provide Thanksgiving meals to families in need. \nWe are collecting: \n\n\nNew 30 Qt Turkey Fryers \n\n\nNew 150 Qt Coolers \n\n\nCollection dates: October 1–31 at United Way of Rhea County. \nFor more information\, contact amcrorie@rheaunitedway.org or call 423-775-5633.
URL:https://visitrhea.com/event/thanksgiving-donations/
LOCATION:United Way of Rhea County\, 224 4th Avenue #101\, Dayton\, Tennessee\, 37321
ATTACH;FMTTYPE=image/jpeg:https://visitrhea.com/wp-content/uploads/2025/10/United-Way-Thanksgiving-Donations-scaled.jpg
END:VEVENT
BEGIN:VEVENT
DTSTART;TZID=UTC:20251001T093000
DTEND;TZID=UTC:20251001T113000
DTSTAMP:20260425T103310
CREATED:20251001T174848Z
LAST-MODIFIED:20251001T175402Z
UID:10002234-1759311000-1759318200@visitrhea.com
SUMMARY:Preschool Story Hour
DESCRIPTION:Ages 3-6 \nat 9:30 am & 10:30 am
URL:https://visitrhea.com/event/preschool-story-hour-5/2025-10-01/
LOCATION:Clyde W Roddy Library\, 371 1st Avenue\, Dayton\, Tennessee\, 37321
ATTACH;FMTTYPE=image/jpeg:https://visitrhea.com/wp-content/uploads/2025/10/preschool.jpg
END:VEVENT
BEGIN:VEVENT
DTSTART;TZID=UTC:20251001T190000
DTEND;TZID=UTC:20251001T200000
DTSTAMP:20260425T103310
CREATED:20241120T170755Z
LAST-MODIFIED:20241120T170755Z
UID:10000299-1759345200-1759348800@visitrhea.com
SUMMARY:Singo
DESCRIPTION:
URL:https://visitrhea.com/event/singo-46/
LOCATION:Monkey Town Brewing Co.\, 287 1st Avenue\, Dayton\, Tennessee\, 37321
END:VEVENT
BEGIN:VEVENT
DTSTART;TZID=UTC:20251001T190000
DTEND;TZID=UTC:20251001T220000
DTSTAMP:20260425T103310
CREATED:20250924T163328Z
LAST-MODIFIED:20250924T163328Z
UID:10002205-1759345200-1759356000@visitrhea.com
SUMMARY:Smarty Pants Trivia
DESCRIPTION:
URL:https://visitrhea.com/event/smarty-pants-trivia-56/2025-10-01/
LOCATION:Watts Bar Beer Works\, 353 Front St\, Spring City\, TN\, 37381\, United States
END:VEVENT
END:VCALENDAR