BEGIN:VCALENDAR
VERSION:2.0
PRODID:-//Rhea County Tourism - ECPv6.15.20//NONSGML v1.0//EN
CALSCALE:GREGORIAN
METHOD:PUBLISH
X-WR-CALNAME:Rhea County Tourism
X-ORIGINAL-URL:https://visitrhea.com
X-WR-CALDESC:Events for Rhea County Tourism
REFRESH-INTERVAL;VALUE=DURATION:PT1H
X-Robots-Tag:noindex
X-PUBLISHED-TTL:PT1H
BEGIN:VTIMEZONE
TZID:UTC
BEGIN:STANDARD
TZOFFSETFROM:+0000
TZOFFSETTO:+0000
TZNAME:UTC
DTSTART:20240101T000000
END:STANDARD
END:VTIMEZONE
BEGIN:VEVENT
DTSTART;TZID=UTC:20250811T153000
DTEND;TZID=UTC:20251217T173000
DTSTAMP:20260425T121002
CREATED:20250805T140400Z
LAST-MODIFIED:20250805T142556Z
UID:10002037-1754926200-1765992600@visitrhea.com
SUMMARY:Spark! After School
DESCRIPTION:With Rc3 Kids \nOffered K-5th Grade \nMonday – Friday 3:30-5:30 pm \nAugust 11th- December 17th \n  \nFree Tutoring! Tuesdays & Thursdays \n3:30 – 5:30 pm \nAugust 19th – December 11th \nTutoring provided by Trinity Learning Center \n  \nContact us: 423-775-0821
URL:https://visitrhea.com/event/spark-after-school/
LOCATION:Rhea County Community Center\, 232 4th Avenue\, Dayton\, Tennessee\, 37321
ATTACH;FMTTYPE=image/jpeg:https://visitrhea.com/wp-content/uploads/2025/08/Spark-after-school.jpg
END:VEVENT
BEGIN:VEVENT
DTSTART;VALUE=DATE:20251001
DTEND;VALUE=DATE:20251101
DTSTAMP:20260425T121002
CREATED:20251009T195904Z
LAST-MODIFIED:20251009T195904Z
UID:10002373-1759276800-1761955199@visitrhea.com
SUMMARY:Rhea Richland Senior Neighbors October Calendar
DESCRIPTION:
URL:https://visitrhea.com/event/rhea-richland-senior-neighbors-october-calendar/
LOCATION:Rhea Richland Senior Neighbors\, 241 Alabama Avenue\, Dayton\, Tennessee\, 37321
ATTACH;FMTTYPE=image/jpeg:https://visitrhea.com/wp-content/uploads/2025/10/IMG_20251008_0001-scaled.jpg
END:VEVENT
BEGIN:VEVENT
DTSTART;VALUE=DATE:20251001
DTEND;VALUE=DATE:20251101
DTSTAMP:20260425T121002
CREATED:20251020T163322Z
LAST-MODIFIED:20251022T140223Z
UID:10002394-1759276800-1761955199@visitrhea.com
SUMMARY:Thanksgiving Donations
DESCRIPTION:Help United Way of Rhea County Provide Thanksgiving Meals! \nUnited Way of Rhea County is asking for your support to provide Thanksgiving meals to families in need. \nWe are collecting: \n\n\nNew 30 Qt Turkey Fryers \n\n\nNew 150 Qt Coolers \n\n\nCollection dates: October 1–31 at United Way of Rhea County. \nFor more information\, contact amcrorie@rheaunitedway.org or call 423-775-5633.
URL:https://visitrhea.com/event/thanksgiving-donations/
LOCATION:United Way of Rhea County\, 224 4th Avenue #101\, Dayton\, Tennessee\, 37321
ATTACH;FMTTYPE=image/jpeg:https://visitrhea.com/wp-content/uploads/2025/10/United-Way-Thanksgiving-Donations-scaled.jpg
END:VEVENT
BEGIN:VEVENT
DTSTART;VALUE=DATE:20251003
DTEND;VALUE=DATE:20251004
DTSTAMP:20260425T121002
CREATED:20250807T172033Z
LAST-MODIFIED:20250807T174326Z
UID:10002130-1759449600-1759535999@visitrhea.com
SUMMARY:Smoky Mountain Creation Fall Retreat
DESCRIPTION:We’re excited to welcome you back to another fantastic weekend at the Smoky Mountain Creation Retreat! Get ready for an unforgettable experience with fellow students\, scholars\, and creation enthusiasts as we explore the depths of creation’s fall and its implications for both science and Christianity. \nEver wondered why we suffer? It’s common to trace the roots of human suffering to sin\, especially when we see how we hurt one another. But what about natural disasters like earthquakes\, storms\, or diseases? Why do we live in a world where such traumas occur so frequently? Traditionally\, Christians have turned to Genesis 3 to explain the Fall as the origin of our suffering. Now\, with our modern understanding of disaster science\, is that still a viewpoint we can embrace? \nWe invite you to the next Smoky Mountain Creation Retreat\, where we will delve into the intriguing Theology (and Science!) surrounding the Fall. \nRSVP is Required.
URL:https://visitrhea.com/event/smoky-mountain-creation-fall-retreat/
LOCATION:Wafloy Mountain Village\, 3610 East Parkway\, Gatlinburg\, Tennessee\, 37738
ATTACH;FMTTYPE=image/jpeg:https://visitrhea.com/wp-content/uploads/2025/08/Smoky-Mountain-Creation-Retreat.jpg
END:VEVENT
BEGIN:VEVENT
DTSTART;VALUE=DATE:20251003
DTEND;VALUE=DATE:20251005
DTSTAMP:20260425T121002
CREATED:20250320T170108Z
LAST-MODIFIED:20250320T170108Z
UID:10000473-1759449600-1759622399@visitrhea.com
SUMMARY:Bryan College Homecoming
DESCRIPTION:
URL:https://visitrhea.com/event/bryan-college-homecoming/
LOCATION:Bryan College
END:VEVENT
BEGIN:VEVENT
DTSTART;VALUE=DATE:20251003
DTEND;VALUE=DATE:20251013
DTSTAMP:20260425T121002
CREATED:20250123T011711Z
LAST-MODIFIED:20250123T011711Z
UID:10000420-1759449600-1760313599@visitrhea.com
SUMMARY:Little Shop of Horrors at the Tennessee Valley Theatre
DESCRIPTION:The meek floral assistant Seymour Krelborn stumbles across a new breed of plant he names “Audrey II” – after his coworker crush. This foul-mouthed\, R&B singing carnivore promises unending fame and fortune to the down and out Krelborn as long as he keeps feeding it\, BLOOD.
URL:https://visitrhea.com/event/little-shop-of-horrors-at-the-tennessee-valley-theatre/
LOCATION:Tennessee Valley Theatre\, 184 W Jackson Ave\, Spring City\, Tennessee\, 37381
END:VEVENT
BEGIN:VEVENT
DTSTART;TZID=UTC:20251003T160000
DTEND;TZID=UTC:20251003T190000
DTSTAMP:20260425T121002
CREATED:20250825T142155Z
LAST-MODIFIED:20250825T142210Z
UID:10002156-1759507200-1759518000@visitrhea.com
SUMMARY:2nd Annual Cruise In
DESCRIPTION:Food * Music * 50/50 Raffle * Door Prizes \n$10 Entry \nClassic Cars\, Trucks\, Motorcycles\, and Jeeps Welcome!
URL:https://visitrhea.com/event/2nd-annual-cruise-in/
LOCATION:Rhea of Sunshine\, 400 Greenway Blvd\, Dayton\, Tennessee\, 37321
ATTACH;FMTTYPE=image/jpeg:https://visitrhea.com/wp-content/uploads/2025/08/2nd-annual-cruise-in-scaled.jpg
END:VEVENT
BEGIN:VEVENT
DTSTART;TZID=UTC:20251003T190000
DTEND;TZID=UTC:20251003T210000
DTSTAMP:20260425T121002
CREATED:20250924T163538Z
LAST-MODIFIED:20250924T163538Z
UID:10002211-1759518000-1759525200@visitrhea.com
SUMMARY:Cricket Doubles Dart Tournament
DESCRIPTION:
URL:https://visitrhea.com/event/cricket-doubles-dart-tournament/2025-10-03/
LOCATION:Watts Bar Beer Works\, 353 Front St\, Spring City\, TN\, 37381\, United States
END:VEVENT
BEGIN:VEVENT
DTSTART;TZID=UTC:20251003T193000
DTEND;TZID=UTC:20251003T220000
DTSTAMP:20260425T121002
CREATED:20250924T163009Z
LAST-MODIFIED:20250924T163009Z
UID:10002197-1759519800-1759528800@visitrhea.com
SUMMARY:Little Shop of Horrors
DESCRIPTION:Tennessee Valley Theatre presents Little Shop of Horrors by Howard Ashman and Alan Menken \nShowtimes: \nFriday\, October 3\, 2025 @ 7:30 PM \nSaturday\, October 4\, 2025 @ 7:30 PM \nSunday\, October 5\, 2025 @ 2:00 PM \nFriday\, October 10\, 2025 @ 7:30 PM \nSaturday\, October 11\, 2025 @ 7:30 PM \nSunday\, October 12\, 2025 @ 2:00 PM \nIf you would like more information about this release\, please contact the TVT at (423) 365PLAY (7529)\, 865-805-6670 or email at tennesseevalleytheatre@gmail.com. \nLittle Shop Press Release
URL:https://visitrhea.com/event/little-shop-of-horrors/2025-10-03/
LOCATION:Tennessee Valley Theatre\, 184 W Jackson Ave\, Spring City\, Tennessee\, 37381
ATTACH;FMTTYPE=image/jpeg:https://visitrhea.com/wp-content/uploads/2025/09/Little-Shop-Poster.jpg
END:VEVENT
END:VCALENDAR