BEGIN:VCALENDAR
VERSION:2.0
PRODID:-//Rhea County Tourism - ECPv6.15.20//NONSGML v1.0//EN
CALSCALE:GREGORIAN
METHOD:PUBLISH
X-WR-CALNAME:Rhea County Tourism
X-ORIGINAL-URL:https://visitrhea.com
X-WR-CALDESC:Events for Rhea County Tourism
REFRESH-INTERVAL;VALUE=DURATION:PT1H
X-Robots-Tag:noindex
X-PUBLISHED-TTL:PT1H
BEGIN:VTIMEZONE
TZID:UTC
BEGIN:STANDARD
TZOFFSETFROM:+0000
TZOFFSETTO:+0000
TZNAME:UTC
DTSTART:20240101T000000
END:STANDARD
END:VTIMEZONE
BEGIN:VEVENT
DTSTART;VALUE=DATE:20250801
DTEND;VALUE=DATE:20250901
DTSTAMP:20260425T104726
CREATED:20250827T142537Z
LAST-MODIFIED:20250827T142537Z
UID:10002159-1754006400-1756684799@visitrhea.com
SUMMARY:Rhea Richlands Senior Neighbors August Calendar
DESCRIPTION:
URL:https://visitrhea.com/event/rhea-richlands-senior-neighbors-august-calendar/
LOCATION:Tennessee
ATTACH;FMTTYPE=image/jpeg:https://visitrhea.com/wp-content/uploads/2025/08/Rhea-Richlands-scaled.jpg
END:VEVENT
BEGIN:VEVENT
DTSTART;VALUE=DATE:20250805
DTEND;VALUE=DATE:20250909
DTSTAMP:20260425T104726
CREATED:20250805T144524Z
LAST-MODIFIED:20250805T145048Z
UID:10002106-1754352000-1757375999@visitrhea.com
SUMMARY:Fall Sports Programs
DESCRIPTION:Soccer: Ages 4 – 15; Registration July 14 – August 18 \nVolleyball: Girls 3rd – 12th Grades; Registration July 14 – August 16 \nFlag Football: Ages 6 -14; Registration July 14 – August 16 \nBaseball: Ages 4 – 12; Registration August 4 – Sept 8 \nTumbling: Ages 3 – High School; Registration Opened July 21 \nDance: Ages 3 – 3rd Grade; Registration Opened July 14
URL:https://visitrhea.com/event/fall-sports-programs/
LOCATION:Rhea County Community Center\, 232 4th Avenue\, Dayton\, Tennessee\, 37321
ATTACH;FMTTYPE=image/jpeg:https://visitrhea.com/wp-content/uploads/2025/08/Fall-Sports-Programs-scaled.jpg
END:VEVENT
BEGIN:VEVENT
DTSTART;TZID=UTC:20250811T153000
DTEND;TZID=UTC:20251217T173000
DTSTAMP:20260425T104726
CREATED:20250805T140400Z
LAST-MODIFIED:20250805T142556Z
UID:10002037-1754926200-1765992600@visitrhea.com
SUMMARY:Spark! After School
DESCRIPTION:With Rc3 Kids \nOffered K-5th Grade \nMonday – Friday 3:30-5:30 pm \nAugust 11th- December 17th \n  \nFree Tutoring! Tuesdays & Thursdays \n3:30 – 5:30 pm \nAugust 19th – December 11th \nTutoring provided by Trinity Learning Center \n  \nContact us: 423-775-0821
URL:https://visitrhea.com/event/spark-after-school/
LOCATION:Rhea County Community Center\, 232 4th Avenue\, Dayton\, Tennessee\, 37321
ATTACH;FMTTYPE=image/jpeg:https://visitrhea.com/wp-content/uploads/2025/08/Spark-after-school.jpg
END:VEVENT
BEGIN:VEVENT
DTSTART;VALUE=DATE:20250815
DTEND;VALUE=DATE:20250825
DTSTAMP:20260425T104726
CREATED:20250123T011549Z
LAST-MODIFIED:20250123T011549Z
UID:10000419-1755216000-1756079999@visitrhea.com
SUMMARY:Much Ado About Murder at the Tennessee Valley Theatre
DESCRIPTION:Rich but rotten Carlton Larraby enjoyed punctuating the lives of his family with macabre little surprises. His latest joke is a Halloween party with everybody dressed as a character from Shakespeare. Since this is an audience-participation play\, the murder is revealed to the audience before the characters of the play know about it.
URL:https://visitrhea.com/event/much-ado-about-murder-at-the-tennessee-valley-theatre/
LOCATION:Tennessee Valley Theatre\, 184 W Jackson Ave\, Spring City\, Tennessee\, 37381
END:VEVENT
BEGIN:VEVENT
DTSTART;TZID=UTC:20250825T000000
DTEND;TZID=UTC:20250825T000000
DTSTAMP:20260425T104726
CREATED:20250825T141015Z
LAST-MODIFIED:20250825T141137Z
UID:10002155-1756080000-1756080000@visitrhea.com
SUMMARY:CNA Class
DESCRIPTION:September 8-26; Daytime Classes Monday -Friday \nFree Training and On-the-Job Experience \nJob Opportunities Available Upon Certification \nContact Lindsay Swafford for more information: 423-847-3139 \n 
URL:https://visitrhea.com/event/cna-class/
LOCATION:10055 Rhea County Hwy\, 10055 Rhea County Hwy\, Dayton\, Tennessee\, 37321
ATTACH;FMTTYPE=image/jpeg:https://visitrhea.com/wp-content/uploads/2025/08/CNA-Class-scaled.jpg
END:VEVENT
BEGIN:VEVENT
DTSTART;TZID=UTC:20250826T110000
DTEND;TZID=UTC:20250826T150000
DTSTAMP:20260425T104726
CREATED:20250821T154552Z
LAST-MODIFIED:20250821T155013Z
UID:10002154-1756206000-1756220400@visitrhea.com
SUMMARY:Blood Drive
DESCRIPTION:
URL:https://visitrhea.com/event/blood-drive-3/
LOCATION:10055 Rhea County Hwy\, 10055 Rhea County Hwy\, Dayton\, Tennessee\, 37321
ATTACH;FMTTYPE=image/jpeg:https://visitrhea.com/wp-content/uploads/2025/08/Blood-Drive-1-scaled.jpg
END:VEVENT
BEGIN:VEVENT
DTSTART;TZID=UTC:20250826T163000
DTEND;TZID=UTC:20250826T180000
DTSTAMP:20260425T104726
CREATED:20250807T171323Z
LAST-MODIFIED:20250807T171323Z
UID:10002129-1756225800-1756231200@visitrhea.com
SUMMARY:Abide Dance Studio Open House
DESCRIPTION:We are celebrating ONE YEAR of Abide Dance Studio!  Join us on August 26\, 2025\, for an open house. Tour the studio\, meet the owner\, and learn more about our dedication to providing a Christ-centered dance education for our Rhea County community.
URL:https://visitrhea.com/event/abide-dance-studio-open-house/
LOCATION:Abide Dance Studio\, 1328 Market Street\, Dayton\, Tennessee\, 37321
ATTACH;FMTTYPE=image/jpeg:https://visitrhea.com/wp-content/uploads/2025/08/Abide-Dance-Studio-scaled.jpg
END:VEVENT
BEGIN:VEVENT
DTSTART;TZID=UTC:20250826T170000
DTEND;TZID=UTC:20250826T180000
DTSTAMP:20260425T104726
CREATED:20250805T201005Z
LAST-MODIFIED:20250805T201005Z
UID:10002121-1756227600-1756231200@visitrhea.com
SUMMARY:Book Club
DESCRIPTION:Join us as we discuss The Tattooist of Auschwitz by Heather Morris \nBring your thoughts\, your questions\, and your heart.
URL:https://visitrhea.com/event/book-club/
LOCATION:Clyde W Roddy Library\, 371 1st Avenue\, Dayton\, Tennessee\, 37321
ATTACH;FMTTYPE=image/jpeg:https://visitrhea.com/wp-content/uploads/2025/08/Book-Club-August-2025.jpg
END:VEVENT
BEGIN:VEVENT
DTSTART;TZID=UTC:20250826T183000
DTEND;TZID=UTC:20250826T193000
DTSTAMP:20260425T104726
CREATED:20250708T211946Z
LAST-MODIFIED:20250708T211946Z
UID:10001697-1756233000-1756236600@visitrhea.com
SUMMARY:Spring City Tourism and Events Commission Monthly Meeting
DESCRIPTION:
URL:https://visitrhea.com/event/spring-city-tourism-and-events-commission-monthly-meeting/2025-08-26/
LOCATION:229 Front Street\, 229 Front Street\, Spring City\, Tennessee\, 37381
END:VEVENT
BEGIN:VEVENT
DTSTART;TZID=UTC:20250827T080000
DTEND;TZID=UTC:20250827T170000
DTSTAMP:20260425T104726
CREATED:20250827T144354Z
LAST-MODIFIED:20250827T144354Z
UID:10002160-1756281600-1756314000@visitrhea.com
SUMMARY:Walk for Life
DESCRIPTION:Join The Care Center for our Walk for Life and take a step toward hope and community. \nWhen: Saturday\, September 13Where: The Care Center\, Dayton\, TNTime: Registration starts at 8:30 AM | Walk kicks off at 9:00 AM \nBring your family and friends for a meaningful morning of walking\, connection\, and celebration!
URL:https://visitrhea.com/event/walk-for-life/
LOCATION:The Care Center\, 285 Main Street\, Dayton\, Tennessee\, 37321
ATTACH;FMTTYPE=image/jpeg:https://visitrhea.com/wp-content/uploads/2025/08/Walk-for-Life-scaled.jpg
END:VEVENT
BEGIN:VEVENT
DTSTART;TZID=UTC:20250827T103000
DTEND;TZID=UTC:20250827T113000
DTSTAMP:20260425T104726
CREATED:20250805T200541Z
LAST-MODIFIED:20250805T200541Z
UID:10002116-1756290600-1756294200@visitrhea.com
SUMMARY:Preschool Story Hour
DESCRIPTION:Come and travel the world with us! Join Ms. Holly and the Library Ladies every Wednesday at 10:30 am as we read books\, make crafts\, and enjoy authentic food from each country! (ages 3 – 6 years old)
URL:https://visitrhea.com/event/preschool-story-hour-4/2025-08-27/
LOCATION:Clyde W Roddy Library\, 371 1st Avenue\, Dayton\, Tennessee\, 37321
ATTACH;FMTTYPE=image/jpeg:https://visitrhea.com/wp-content/uploads/2025/08/Clyde-W-Roddy-Preschool-Story-Hour.jpg
END:VEVENT
BEGIN:VEVENT
DTSTART;TZID=UTC:20250827T190000
DTEND;TZID=UTC:20250827T200000
DTSTAMP:20260425T104726
CREATED:20241120T164401Z
LAST-MODIFIED:20241120T164401Z
UID:10000294-1756321200-1756324800@visitrhea.com
SUMMARY:Singo
DESCRIPTION:
URL:https://visitrhea.com/event/singo-41/
LOCATION:Monkey Town Brewing Co.\, 287 1st Avenue\, Dayton\, Tennessee\, 37321
END:VEVENT
BEGIN:VEVENT
DTSTART;TZID=UTC:20250827T190000
DTEND;TZID=UTC:20250827T220000
DTSTAMP:20260425T104726
CREATED:20241119T210547Z
LAST-MODIFIED:20250528T155802Z
UID:10000215-1756321200-1756332000@visitrhea.com
SUMMARY:Smarty Pants Trivia
DESCRIPTION:
URL:https://visitrhea.com/event/smarty-pants-trivia-43/
LOCATION:Watts Bar Beer Works\, 353 Front St\, Spring City\, TN\, 37381\, United States
END:VEVENT
BEGIN:VEVENT
DTSTART;TZID=UTC:20250828T120000
DTEND;TZID=UTC:20250828T130000
DTSTAMP:20260425T104726
CREATED:20250509T135721Z
LAST-MODIFIED:20250527T193921Z
UID:10001041-1756382400-1756386000@visitrhea.com
SUMMARY:Dayton Chamber Meet & Greet
DESCRIPTION:Fourth Thursday of each month\, Dayton Chamber Meet & Greet \nSchedule subject to change; check the website calendar to verify the location.
URL:https://visitrhea.com/event/dayton-chamber-meet-greet/2025-08-28/
LOCATION:Tennessee
ATTACH;FMTTYPE=image/jpeg:https://visitrhea.com/wp-content/uploads/2025/05/Chamber-Calendar-2.jpg
END:VEVENT
BEGIN:VEVENT
DTSTART;TZID=UTC:20250828T153000
DTEND;TZID=UTC:20250828T173000
DTSTAMP:20260425T104726
CREATED:20250805T201441Z
LAST-MODIFIED:20250805T201441Z
UID:10002126-1756395000-1756402200@visitrhea.com
SUMMARY:Afternoon at the Movies
DESCRIPTION:August 7: The Minecraft Movie \nAugust 14: Snow White \nAugust 21: Paddington in Peru \nAugust 28: Moana 2
URL:https://visitrhea.com/event/afternoon-at-the-movies-6/2025-08-28/
LOCATION:Clyde W Roddy Library\, 371 1st Avenue\, Dayton\, Tennessee\, 37321
END:VEVENT
BEGIN:VEVENT
DTSTART;TZID=UTC:20250828T170000
DTEND;TZID=UTC:20250828T183000
DTSTAMP:20260425T104726
CREATED:20250807T175459Z
LAST-MODIFIED:20250807T175459Z
UID:10002151-1756400400-1756405800@visitrhea.com
SUMMARY:Spring City Social
DESCRIPTION:The Spring City Chamber of Commerce is excited to launch a brand-new networking event series: Spring City Social – bringing our business community together to connect\, collaborate\, and grow.\n\n\n\nAugust Hosted by: Tennessee Valley Theatre\nDate: Thursday\, August 28th\nTime: 5:00 – 6:30 pm\n\n\n\nJoin us for great conversation and relaxed networking after a long day. Whether you’re a business owner\, entrepreneur\, or community member\, this is a fantastic chance to build relationships and strengthen our local network.\n\n\n\nWe can’t wait to see you there!
URL:https://visitrhea.com/event/spring-city-social/
LOCATION:Tennessee Valley Theatre\, 184 W Jackson Ave\, Spring City\, Tennessee\, 37381
ATTACH;FMTTYPE=image/jpeg:https://visitrhea.com/wp-content/uploads/2025/08/Spring-City-Social.jpg
END:VEVENT
BEGIN:VEVENT
DTSTART;TZID=UTC:20250828T173000
DTEND;TZID=UTC:20250828T193000
DTSTAMP:20260425T104726
CREATED:20250708T212557Z
LAST-MODIFIED:20250708T212557Z
UID:10001703-1756402200-1756409400@visitrhea.com
SUMMARY:Spring City Board of Commission Workshop
DESCRIPTION:
URL:https://visitrhea.com/event/spring-city-board-of-commission-workshop/2025-08-28/
LOCATION:229 Front Street\, 229 Front Street\, Spring City\, Tennessee\, 37381
END:VEVENT
BEGIN:VEVENT
DTSTART;TZID=UTC:20250828T180000
DTEND;TZID=UTC:20250828T200000
DTSTAMP:20260425T104726
CREATED:20241218T150852Z
LAST-MODIFIED:20241218T150852Z
UID:10000351-1756404000-1756411200@visitrhea.com
SUMMARY:Bingo
DESCRIPTION:
URL:https://visitrhea.com/event/bingo-38/
LOCATION:Pizza King\, 4703 Dayton Mtn Hwy\, Dayton\, Tennessee
END:VEVENT
BEGIN:VEVENT
DTSTART;TZID=UTC:20250828T180000
DTEND;TZID=UTC:20250828T200000
DTSTAMP:20260425T104726
CREATED:20250827T145328Z
LAST-MODIFIED:20250827T145328Z
UID:10002161-1756404000-1756411200@visitrhea.com
SUMMARY:Bingo
DESCRIPTION:Join us on Thursday\, August 28th\, from 6 to 8 PM for food\, fun\, and exciting Bingo games to support Rhea of Sunshine Inc. Bring your friends\, get your daubers ready\, and enjoy a great evening. \nAll proceeds directly benefit Rhea of Sunshine Inc.’s day and overnight activities\, with prizes\, delicious food\, and plenty of fun for everyone.
URL:https://visitrhea.com/event/bingo-56/
LOCATION:Watts Bar Beer Works\, 353 Front St\, Spring City\, TN\, 37381\, United States
ATTACH;FMTTYPE=image/jpeg:https://visitrhea.com/wp-content/uploads/2025/08/Bingo-night-e1757348877196.jpg
END:VEVENT
BEGIN:VEVENT
DTSTART;TZID=UTC:20250829T170000
DTEND;TZID=UTC:20250829T190000
DTSTAMP:20260425T104726
CREATED:20241119T211403Z
LAST-MODIFIED:20250528T153653Z
UID:10000216-1756486800-1756494000@visitrhea.com
SUMMARY:Happy Hour
DESCRIPTION:
URL:https://visitrhea.com/event/happy-hour-43/
LOCATION:Watts Bar Beer Works\, 353 Front St\, Spring City\, TN\, 37381\, United States
END:VEVENT
BEGIN:VEVENT
DTSTART;VALUE=DATE:20250830
DTEND;VALUE=DATE:20250831
DTSTAMP:20260425T104726
CREATED:20250724T141430Z
LAST-MODIFIED:20250724T141430Z
UID:10001847-1756512000-1756598399@visitrhea.com
SUMMARY:Cumberland Plateau OWM 2K/ Mod Mini 1.5K
DESCRIPTION:LM\, Sportsman\, OWM\, FWD\, Jr. FWD\, Sharp Mini\, Mod Mini
URL:https://visitrhea.com/event/cumberland-plateau-owm-2k-mod-mini-1-5k/
LOCATION:Mountain View Raceway\, 20626 Rhea County Hwy\, Spring City\, TN\, 37381
ATTACH;FMTTYPE=image/jpeg:https://visitrhea.com/wp-content/uploads/2025/07/Mountain-View-Raceway.jpg
END:VEVENT
BEGIN:VEVENT
DTSTART;TZID=UTC:20250830T180000
DTEND;TZID=UTC:20250830T210000
DTSTAMP:20260425T104726
CREATED:20241119T211452Z
LAST-MODIFIED:20250827T145853Z
UID:10000217-1756576800-1756587600@visitrhea.com
SUMMARY:Live Music
DESCRIPTION:Kick off the evening with live music by Rhea Springs Revival at 6 PM\, then enjoy cricket\, doubles\, blind draw\, and double elimination starting at 7 PM. Grab tasty treats from the food truck\, Antojos Deliciosos\, and make it a night to remember!
URL:https://visitrhea.com/event/live-music-44/
LOCATION:Watts Bar Beer Works\, 353 Front St\, Spring City\, TN\, 37381\, United States
END:VEVENT
BEGIN:VEVENT
DTSTART;TZID=UTC:20250902T103000
DTEND;TZID=UTC:20250902T120000
DTSTAMP:20260425T104726
CREATED:20250805T144035Z
LAST-MODIFIED:20250805T144035Z
UID:10002043-1756809000-1756814400@visitrhea.com
SUMMARY:Rc3 Fall Homeschool P.E.
DESCRIPTION:Join Rc3 for a 10-week program of activity and healthy bodies! \nAges K – 6th \ncall 423-775-0821 for more information
URL:https://visitrhea.com/event/rc3-fall-homeschool-p-e/2025-09-02/
LOCATION:Rhea County Community Center\, 232 4th Avenue\, Dayton\, Tennessee\, 37321
ATTACH;FMTTYPE=image/jpeg:https://visitrhea.com/wp-content/uploads/2025/08/Fall-Homeschool-P.E-scaled.jpg
END:VEVENT
BEGIN:VEVENT
DTSTART;TZID=UTC:20250902T153000
DTEND;TZID=UTC:20250902T170000
DTSTAMP:20260425T104726
CREATED:20250902T133901Z
LAST-MODIFIED:20250902T133901Z
UID:10002170-1756827000-1756832400@visitrhea.com
SUMMARY:Kid Connect
DESCRIPTION:
URL:https://visitrhea.com/event/kid-connect/2025-09-02/
LOCATION:Clyde W Roddy Library\, 371 1st Avenue\, Dayton\, Tennessee\, 37321
END:VEVENT
BEGIN:VEVENT
DTSTART;TZID=UTC:20250902T190000
DTEND;TZID=UTC:20250902T200000
DTSTAMP:20260425T104726
CREATED:20241119T214836Z
LAST-MODIFIED:20241119T214836Z
UID:10000219-1756839600-1756843200@visitrhea.com
SUMMARY:Graysville Tennessee Monthly Commission Meeting
DESCRIPTION:
URL:https://visitrhea.com/event/graysville-tennessee-monthly-commission-meeting-11/
LOCATION:Graysville Municipal Building\, 136 Harrison Ave\, Graysville\, TN\, 37738\, United States
END:VEVENT
BEGIN:VEVENT
DTSTART;TZID=UTC:20250903T103000
DTEND;TZID=UTC:20250903T113000
DTSTAMP:20260425T104726
CREATED:20250805T200541Z
LAST-MODIFIED:20250805T200541Z
UID:10002117-1756895400-1756899000@visitrhea.com
SUMMARY:Preschool Story Hour
DESCRIPTION:Come and travel the world with us! Join Ms. Holly and the Library Ladies every Wednesday at 10:30 am as we read books\, make crafts\, and enjoy authentic food from each country! (ages 3 – 6 years old)
URL:https://visitrhea.com/event/preschool-story-hour-4/2025-09-03/
LOCATION:Clyde W Roddy Library\, 371 1st Avenue\, Dayton\, Tennessee\, 37321
ATTACH;FMTTYPE=image/jpeg:https://visitrhea.com/wp-content/uploads/2025/08/Clyde-W-Roddy-Preschool-Story-Hour.jpg
END:VEVENT
BEGIN:VEVENT
DTSTART;TZID=UTC:20250903T190000
DTEND;TZID=UTC:20250903T200000
DTSTAMP:20260425T104726
CREATED:20241120T164435Z
LAST-MODIFIED:20241120T164435Z
UID:10000295-1756926000-1756929600@visitrhea.com
SUMMARY:Singo
DESCRIPTION:
URL:https://visitrhea.com/event/singo-42/
LOCATION:Monkey Town Brewing Co.\, 287 1st Avenue\, Dayton\, Tennessee\, 37321
END:VEVENT
BEGIN:VEVENT
DTSTART;TZID=UTC:20250903T190000
DTEND;TZID=UTC:20250903T220000
DTSTAMP:20260425T104726
CREATED:20241119T214915Z
LAST-MODIFIED:20250528T155717Z
UID:10000220-1756926000-1756936800@visitrhea.com
SUMMARY:Smarty Pants Trivia
DESCRIPTION:
URL:https://visitrhea.com/event/smarty-pants-trivia-44/
LOCATION:Watts Bar Beer Works\, 353 Front St\, Spring City\, TN\, 37381\, United States
END:VEVENT
BEGIN:VEVENT
DTSTART;TZID=UTC:20250904T060000
DTEND;TZID=UTC:20250907T170000
DTSTAMP:20260425T104726
CREATED:20250825T144317Z
LAST-MODIFIED:20250825T144317Z
UID:10002157-1756965600-1757264400@visitrhea.com
SUMMARY:Online Auction
DESCRIPTION:In Support of United Way of Rhea County \nBid on Amazing Items While Supporting A Great Cause \nFor more information & to register: \nyourcharityauction.com/unitedwayrheacounty
URL:https://visitrhea.com/event/online-auction/
LOCATION:Tennessee
ATTACH;FMTTYPE=image/jpeg:https://visitrhea.com/wp-content/uploads/2025/08/Online-Auction-scaled.jpg
END:VEVENT
BEGIN:VEVENT
DTSTART;TZID=UTC:20250904T100000
DTEND;TZID=UTC:20250904T110000
DTSTAMP:20260425T104726
CREATED:20250902T132832Z
LAST-MODIFIED:20250902T132832Z
UID:10002163-1756980000-1756983600@visitrhea.com
SUMMARY:Baby Bounce
DESCRIPTION:
URL:https://visitrhea.com/event/baby-bounce-2/2025-09-04/
LOCATION:Clyde W Roddy Library\, 371 1st Avenue\, Dayton\, Tennessee\, 37321
ATTACH;FMTTYPE=image/png:https://visitrhea.com/wp-content/uploads/2025/09/Baby-Bounce-4-e1757348852489.png
END:VEVENT
END:VCALENDAR