BEGIN:VCALENDAR
VERSION:2.0
PRODID:-//Rhea County Tourism - ECPv6.15.20//NONSGML v1.0//EN
CALSCALE:GREGORIAN
METHOD:PUBLISH
X-WR-CALNAME:Rhea County Tourism
X-ORIGINAL-URL:https://visitrhea.com
X-WR-CALDESC:Events for Rhea County Tourism
REFRESH-INTERVAL;VALUE=DURATION:PT1H
X-Robots-Tag:noindex
X-PUBLISHED-TTL:PT1H
BEGIN:VTIMEZONE
TZID:UTC
BEGIN:STANDARD
TZOFFSETFROM:+0000
TZOFFSETTO:+0000
TZNAME:UTC
DTSTART:20240101T000000
END:STANDARD
END:VTIMEZONE
BEGIN:VEVENT
DTSTART;TZID=UTC:20250916T103000
DTEND;TZID=UTC:20250916T120000
DTSTAMP:20260421T172543
CREATED:20250805T144035Z
LAST-MODIFIED:20250805T144035Z
UID:10002045-1758018600-1758024000@visitrhea.com
SUMMARY:Rc3 Fall Homeschool P.E.
DESCRIPTION:Join Rc3 for a 10-week program of activity and healthy bodies! \nAges K – 6th \ncall 423-775-0821 for more information
URL:https://visitrhea.com/event/rc3-fall-homeschool-p-e/2025-09-16/
LOCATION:Rhea County Community Center\, 232 4th Avenue\, Dayton\, Tennessee\, 37321
ATTACH;FMTTYPE=image/jpeg:https://visitrhea.com/wp-content/uploads/2025/08/Fall-Homeschool-P.E-scaled.jpg
END:VEVENT
BEGIN:VEVENT
DTSTART;TZID=UTC:20250916T133000
DTEND;TZID=UTC:20250916T163000
DTSTAMP:20260421T172543
CREATED:20250708T211139Z
LAST-MODIFIED:20250708T211139Z
UID:10001692-1758029400-1758040200@visitrhea.com
SUMMARY:Spring City Municipal Court
DESCRIPTION:
URL:https://visitrhea.com/event/spring-city-municipal-court/2025-09-16/
LOCATION:229 Front Street\, 229 Front Street\, Spring City\, Tennessee\, 37381
END:VEVENT
BEGIN:VEVENT
DTSTART;TZID=UTC:20250916T153000
DTEND;TZID=UTC:20250916T170000
DTSTAMP:20260421T172543
CREATED:20250902T133901Z
LAST-MODIFIED:20250902T133901Z
UID:10002171-1758036600-1758042000@visitrhea.com
SUMMARY:Kid Connect
DESCRIPTION:
URL:https://visitrhea.com/event/kid-connect/2025-09-16/
LOCATION:Clyde W Roddy Library\, 371 1st Avenue\, Dayton\, Tennessee\, 37321
END:VEVENT
BEGIN:VEVENT
DTSTART;VALUE=DATE:20250917
DTEND;VALUE=DATE:20250918
DTSTAMP:20260421T172543
CREATED:20250917T151007Z
LAST-MODIFIED:20250917T151007Z
UID:10002191-1758067200-1758153599@visitrhea.com
SUMMARY:Free Computer Class
DESCRIPTION:Class is pending: \nFor more information\, or to sign up\, call: \nRhea Richland Senior Neighbors \n423-775-3405 \n 
URL:https://visitrhea.com/event/free-computer-class/
LOCATION:Tennessee
ATTACH;FMTTYPE=image/jpeg:https://visitrhea.com/wp-content/uploads/2025/09/Free-Computer-Class-scaled.jpg
END:VEVENT
BEGIN:VEVENT
DTSTART;TZID=UTC:20250917T103000
DTEND;TZID=UTC:20250917T113000
DTSTAMP:20260421T172543
CREATED:20250805T200541Z
LAST-MODIFIED:20250805T200541Z
UID:10002119-1758105000-1758108600@visitrhea.com
SUMMARY:Preschool Story Hour
DESCRIPTION:Come and travel the world with us! Join Ms. Holly and the Library Ladies every Wednesday at 10:30 am as we read books\, make crafts\, and enjoy authentic food from each country! (ages 3 – 6 years old)
URL:https://visitrhea.com/event/preschool-story-hour-4/2025-09-17/
LOCATION:Clyde W Roddy Library\, 371 1st Avenue\, Dayton\, Tennessee\, 37321
ATTACH;FMTTYPE=image/jpeg:https://visitrhea.com/wp-content/uploads/2025/08/Clyde-W-Roddy-Preschool-Story-Hour.jpg
END:VEVENT
BEGIN:VEVENT
DTSTART;TZID=UTC:20250917T190000
DTEND;TZID=UTC:20250917T200000
DTSTAMP:20260421T172543
CREATED:20241120T164535Z
LAST-MODIFIED:20241120T164535Z
UID:10000297-1758135600-1758139200@visitrhea.com
SUMMARY:Singo
DESCRIPTION:
URL:https://visitrhea.com/event/singo-44/
LOCATION:Monkey Town Brewing Co.\, 287 1st Avenue\, Dayton\, Tennessee\, 37321
END:VEVENT
BEGIN:VEVENT
DTSTART;TZID=UTC:20250917T190000
DTEND;TZID=UTC:20250917T220000
DTSTAMP:20260421T172543
CREATED:20250917T143509Z
LAST-MODIFIED:20250917T143527Z
UID:10002184-1758135600-1758146400@visitrhea.com
SUMMARY:Smarty Pants Trivia
DESCRIPTION:
URL:https://visitrhea.com/event/smarty-pants-trivia-55/
LOCATION:Watts Bar Beer Works\, 353 Front St\, Spring City\, TN\, 37381\, United States
END:VEVENT
BEGIN:VEVENT
DTSTART;TZID=UTC:20250918T100000
DTEND;TZID=UTC:20250918T110000
DTSTAMP:20260421T172543
CREATED:20250902T132832Z
LAST-MODIFIED:20250902T132832Z
UID:10002164-1758189600-1758193200@visitrhea.com
SUMMARY:Baby Bounce
DESCRIPTION:
URL:https://visitrhea.com/event/baby-bounce-2/2025-09-18/
LOCATION:Clyde W Roddy Library\, 371 1st Avenue\, Dayton\, Tennessee\, 37321
ATTACH;FMTTYPE=image/png:https://visitrhea.com/wp-content/uploads/2025/09/Baby-Bounce-4-e1757348852489.png
END:VEVENT
BEGIN:VEVENT
DTSTART;TZID=UTC:20250918T180000
DTEND;TZID=UTC:20250918T200000
DTSTAMP:20260421T172543
CREATED:20241218T151245Z
LAST-MODIFIED:20241218T151245Z
UID:10000354-1758218400-1758225600@visitrhea.com
SUMMARY:Bingo
DESCRIPTION:
URL:https://visitrhea.com/event/bingo-41/
LOCATION:Pizza King\, 4703 Dayton Mtn Hwy\, Dayton\, Tennessee
END:VEVENT
BEGIN:VEVENT
DTSTART;TZID=UTC:20250918T180000
DTEND;TZID=UTC:20250918T200000
DTSTAMP:20260421T172543
CREATED:20250917T143829Z
LAST-MODIFIED:20250917T143829Z
UID:10002185-1758218400-1758225600@visitrhea.com
SUMMARY:Bingo Benefit
DESCRIPTION:
URL:https://visitrhea.com/event/bingo-benefit/
LOCATION:Watts Bar Beer Works\, 353 Front St\, Spring City\, TN\, 37381\, United States
ATTACH;FMTTYPE=image/jpeg:https://visitrhea.com/wp-content/uploads/2025/09/547000166_759851366866571_2210408280690505200_n.jpg
END:VEVENT
BEGIN:VEVENT
DTSTART;VALUE=DATE:20250919
DTEND;VALUE=DATE:20250920
DTSTAMP:20260421T172543
CREATED:20250917T151612Z
LAST-MODIFIED:20250917T151612Z
UID:10002192-1758240000-1758326399@visitrhea.com
SUMMARY:Life Line Screening Event
DESCRIPTION:Who should attend: Anyone aged 40+ \nSpecial Pricing for $129: \nCarotid Artery Disease Screening \nAtrial Fibrillation Screening \nAbdominal Aortic Aneurysm Screening \nPeripheral Artery Disease Screening
URL:https://visitrhea.com/event/life-line-screening-event/
LOCATION:Dayton Church of God; The Family Church\, 3314 Rhea County Highway\, Dayton\, Tennessee\, 37321
ATTACH;FMTTYPE=image/jpeg:https://visitrhea.com/wp-content/uploads/2025/09/lifeline-Screening-event-scaled.jpg
END:VEVENT
BEGIN:VEVENT
DTSTART;TZID=UTC:20250919T180000
DTEND;TZID=UTC:20250919T210000
DTSTAMP:20260421T172543
CREATED:20250917T144110Z
LAST-MODIFIED:20250917T144110Z
UID:10002186-1758304800-1758315600@visitrhea.com
SUMMARY:Live Music
DESCRIPTION:Live Music Hayden Lynn Music Official 6pm \nCricket Dart Tournament\, doubles\, blind draw 7pm\nFood Truck Geno’s Crusty Crab
URL:https://visitrhea.com/event/live-music-57/
LOCATION:Watts Bar Beer Works\, 353 Front St\, Spring City\, TN\, 37381\, United States
ATTACH;FMTTYPE=image/jpeg:https://visitrhea.com/wp-content/uploads/2025/09/Hayden-Lynn.jpg
END:VEVENT
BEGIN:VEVENT
DTSTART;VALUE=DATE:20250920
DTEND;VALUE=DATE:20250921
DTSTAMP:20260421T172543
CREATED:20250724T141802Z
LAST-MODIFIED:20250724T141802Z
UID:10001849-1758326400-1758412799@visitrhea.com
SUMMARY:AAS Crates $3\,500
DESCRIPTION:Crate\, Sportsman\, FWD\, Jr. FWD\, Dwarf\, Mod Mini
URL:https://visitrhea.com/event/aas-crates-3500/
LOCATION:Mountain View Raceway\, 20626 Rhea County Hwy\, Spring City\, TN\, 37381
ATTACH;FMTTYPE=image/jpeg:https://visitrhea.com/wp-content/uploads/2025/07/Mountain-View-Raceway.jpg
END:VEVENT
BEGIN:VEVENT
DTSTART;VALUE=DATE:20250920
DTEND;VALUE=DATE:20250922
DTSTAMP:20260421T172543
CREATED:20250122T172202Z
LAST-MODIFIED:20250122T172202Z
UID:10000402-1758326400-1758499199@visitrhea.com
SUMMARY:Fishing Tournament - Phoenix BFL Volunteer #5
DESCRIPTION:Boat Count: 120
URL:https://visitrhea.com/event/fishing-tournament-phoenix-bfl-volunteer-5/
LOCATION:Spring City – Piney\, 330 Toestring Valley Road\, Spring City\, Tennessee\, 37381
END:VEVENT
BEGIN:VEVENT
DTSTART;TZID=UTC:20250920T130000
DTEND;TZID=UTC:20250920T140000
DTSTAMP:20260421T172543
CREATED:20250917T144254Z
LAST-MODIFIED:20250917T144254Z
UID:10002187-1758373200-1758376800@visitrhea.com
SUMMARY:Crafting Class
DESCRIPTION:With Painting Parties Plus
URL:https://visitrhea.com/event/crafting-class/
LOCATION:Watts Bar Beer Works\, 353 Front St\, Spring City\, TN\, 37381\, United States
END:VEVENT
BEGIN:VEVENT
DTSTART;TZID=UTC:20250920T193000
DTEND;TZID=UTC:20250920T213000
DTSTAMP:20260421T172543
CREATED:20250902T135120Z
LAST-MODIFIED:20250902T135120Z
UID:10002176-1758396600-1758403800@visitrhea.com
SUMMARY:Movies Under the Stars
DESCRIPTION:September 13th: Remember the Titans \nSeptember 20th: Father of the Bride \nSeptember 27th: Wicked (Costume Bash) \n 
URL:https://visitrhea.com/event/movies-under-the-stars/2025-09-20/
LOCATION:Centennial Park\, 391 Second Avenue\, Dayton\, Tennessee
ATTACH;FMTTYPE=image/jpeg:https://visitrhea.com/wp-content/uploads/2025/09/Movies-under-the-stars.jpg
END:VEVENT
BEGIN:VEVENT
DTSTART;TZID=UTC:20250921T130000
DTEND;TZID=UTC:20250921T190000
DTSTAMP:20260421T172543
CREATED:20250917T144525Z
LAST-MODIFIED:20250917T144525Z
UID:10002188-1758459600-1758481200@visitrhea.com
SUMMARY:NFL Live Ticket
DESCRIPTION:Out of market games from 1 – 7 pm
URL:https://visitrhea.com/event/nfl-live-ticket/
LOCATION:Watts Bar Beer Works\, 353 Front St\, Spring City\, TN\, 37381\, United States
END:VEVENT
BEGIN:VEVENT
DTSTART;TZID=UTC:20250921T143000
DTEND;TZID=UTC:20250921T153000
DTSTAMP:20260421T172543
CREATED:20241111T195914Z
LAST-MODIFIED:20241111T195914Z
UID:10000023-1758465000-1758468600@visitrhea.com
SUMMARY:Rhea County Historical Society Meeting
DESCRIPTION:Open to the public. Located on the second floor of the courthouse.
URL:https://visitrhea.com/event/rhea-county-historical-society-meeting-6/
LOCATION:Rhea County Courthouse\, 1475 Market Street\, Dayton\, Tennessee\, 37321
END:VEVENT
BEGIN:VEVENT
DTSTART;TZID=UTC:20250923T103000
DTEND;TZID=UTC:20250923T120000
DTSTAMP:20260421T172543
CREATED:20250805T144035Z
LAST-MODIFIED:20250805T144035Z
UID:10002046-1758623400-1758628800@visitrhea.com
SUMMARY:Rc3 Fall Homeschool P.E.
DESCRIPTION:Join Rc3 for a 10-week program of activity and healthy bodies! \nAges K – 6th \ncall 423-775-0821 for more information
URL:https://visitrhea.com/event/rc3-fall-homeschool-p-e/2025-09-23/
LOCATION:Rhea County Community Center\, 232 4th Avenue\, Dayton\, Tennessee\, 37321
ATTACH;FMTTYPE=image/jpeg:https://visitrhea.com/wp-content/uploads/2025/08/Fall-Homeschool-P.E-scaled.jpg
END:VEVENT
BEGIN:VEVENT
DTSTART;TZID=UTC:20250923T183000
DTEND;TZID=UTC:20250923T193000
DTSTAMP:20260421T172543
CREATED:20250708T211946Z
LAST-MODIFIED:20250708T211946Z
UID:10001698-1758652200-1758655800@visitrhea.com
SUMMARY:Spring City Tourism and Events Commission Monthly Meeting
DESCRIPTION:
URL:https://visitrhea.com/event/spring-city-tourism-and-events-commission-monthly-meeting/2025-09-23/
LOCATION:229 Front Street\, 229 Front Street\, Spring City\, Tennessee\, 37381
END:VEVENT
BEGIN:VEVENT
DTSTART;TZID=UTC:20250924T103000
DTEND;TZID=UTC:20250924T113000
DTSTAMP:20260421T172543
CREATED:20250805T200541Z
LAST-MODIFIED:20250805T200541Z
UID:10002120-1758709800-1758713400@visitrhea.com
SUMMARY:Preschool Story Hour
DESCRIPTION:Come and travel the world with us! Join Ms. Holly and the Library Ladies every Wednesday at 10:30 am as we read books\, make crafts\, and enjoy authentic food from each country! (ages 3 – 6 years old)
URL:https://visitrhea.com/event/preschool-story-hour-4/2025-09-24/
LOCATION:Clyde W Roddy Library\, 371 1st Avenue\, Dayton\, Tennessee\, 37321
ATTACH;FMTTYPE=image/jpeg:https://visitrhea.com/wp-content/uploads/2025/08/Clyde-W-Roddy-Preschool-Story-Hour.jpg
END:VEVENT
BEGIN:VEVENT
DTSTART;TZID=UTC:20250924T190000
DTEND;TZID=UTC:20250924T200000
DTSTAMP:20260421T172543
CREATED:20241120T164602Z
LAST-MODIFIED:20241120T164602Z
UID:10000298-1758740400-1758744000@visitrhea.com
SUMMARY:Singo
DESCRIPTION:
URL:https://visitrhea.com/event/singo-45/
LOCATION:Monkey Town Brewing Co.\, 287 1st Avenue\, Dayton\, Tennessee\, 37321
END:VEVENT
BEGIN:VEVENT
DTSTART;TZID=UTC:20250924T190000
DTEND;TZID=UTC:20250924T220000
DTSTAMP:20260421T172543
CREATED:20250924T163328Z
LAST-MODIFIED:20250924T163328Z
UID:10002204-1758740400-1758751200@visitrhea.com
SUMMARY:Smarty Pants Trivia
DESCRIPTION:
URL:https://visitrhea.com/event/smarty-pants-trivia-56/2025-09-24/
LOCATION:Watts Bar Beer Works\, 353 Front St\, Spring City\, TN\, 37381\, United States
END:VEVENT
BEGIN:VEVENT
DTSTART;VALUE=DATE:20250925
DTEND;VALUE=DATE:20250928
DTSTAMP:20260421T172543
CREATED:20250122T172309Z
LAST-MODIFIED:20250122T172309Z
UID:10000403-1758758400-1759017599@visitrhea.com
SUMMARY:Fishing Tournament - ABA Couples' Tour Championship
DESCRIPTION:Boat Count: 200
URL:https://visitrhea.com/event/fishing-tournament-aba-couples-tour-championship/
LOCATION:Dayton Boat Dock\, 175 Lakeshore Dr\, Dayton\, Tennessee\, 37321
END:VEVENT
BEGIN:VEVENT
DTSTART;TZID=UTC:20250925T110000
DTEND;TZID=UTC:20250925T130000
DTSTAMP:20260421T172543
CREATED:20250917T144857Z
LAST-MODIFIED:20250917T144857Z
UID:10002189-1758798000-1758805200@visitrhea.com
SUMMARY:Career Fair
DESCRIPTION:
URL:https://visitrhea.com/event/career-fair/
LOCATION:Bryan College
ATTACH;FMTTYPE=image/jpeg:https://visitrhea.com/wp-content/uploads/2025/09/Bryan-Career-fair.jpg
END:VEVENT
BEGIN:VEVENT
DTSTART;TZID=UTC:20250925T120000
DTEND;TZID=UTC:20250925T130000
DTSTAMP:20260421T172543
CREATED:20250509T135721Z
LAST-MODIFIED:20250527T193921Z
UID:10001042-1758801600-1758805200@visitrhea.com
SUMMARY:Dayton Chamber Meet & Greet
DESCRIPTION:Fourth Thursday of each month\, Dayton Chamber Meet & Greet \nSchedule subject to change; check the website calendar to verify the location.
URL:https://visitrhea.com/event/dayton-chamber-meet-greet/2025-09-25/
LOCATION:Tennessee
ATTACH;FMTTYPE=image/jpeg:https://visitrhea.com/wp-content/uploads/2025/05/Chamber-Calendar-2.jpg
END:VEVENT
BEGIN:VEVENT
DTSTART;TZID=UTC:20250925T153000
DTEND;TZID=UTC:20250925T173000
DTSTAMP:20260421T172543
CREATED:20250902T134238Z
LAST-MODIFIED:20250902T134238Z
UID:10002173-1758814200-1758821400@visitrhea.com
SUMMARY:Afternoon at the Movies
DESCRIPTION:September 11th: How to Train Your Dragon \nSeptember 25th: White Fang
URL:https://visitrhea.com/event/afternoon-at-the-movies-7/2025-09-25/
LOCATION:Clyde W Roddy Library\, 371 1st Avenue\, Dayton\, Tennessee\, 37321
END:VEVENT
BEGIN:VEVENT
DTSTART;TZID=UTC:20250925T173000
DTEND;TZID=UTC:20250925T193000
DTSTAMP:20260421T172543
CREATED:20250708T212557Z
LAST-MODIFIED:20250708T212557Z
UID:10001704-1758821400-1758828600@visitrhea.com
SUMMARY:Spring City Board of Commission Workshop
DESCRIPTION:
URL:https://visitrhea.com/event/spring-city-board-of-commission-workshop/2025-09-25/
LOCATION:229 Front Street\, 229 Front Street\, Spring City\, Tennessee\, 37381
END:VEVENT
BEGIN:VEVENT
DTSTART;TZID=UTC:20250925T180000
DTEND;TZID=UTC:20250925T200000
DTSTAMP:20260421T172543
CREATED:20241218T151316Z
LAST-MODIFIED:20241218T151316Z
UID:10000355-1758823200-1758830400@visitrhea.com
SUMMARY:Bingo
DESCRIPTION:
URL:https://visitrhea.com/event/bingo-42/
LOCATION:Pizza King\, 4703 Dayton Mtn Hwy\, Dayton\, Tennessee
END:VEVENT
BEGIN:VEVENT
DTSTART;TZID=UTC:20250926T100000
DTEND;TZID=UTC:20250926T110000
DTSTAMP:20260421T172543
CREATED:20250902T133514Z
LAST-MODIFIED:20250902T133514Z
UID:10002169-1758880800-1758884400@visitrhea.com
SUMMARY:Toddler Time
DESCRIPTION:
URL:https://visitrhea.com/event/toddler-time-2/2025-09-26/
LOCATION:Clyde W Roddy Library\, 371 1st Avenue\, Dayton\, Tennessee\, 37321
END:VEVENT
END:VCALENDAR