BEGIN:VCALENDAR
VERSION:2.0
PRODID:-//Rhea County Tourism - ECPv6.15.18//NONSGML v1.0//EN
CALSCALE:GREGORIAN
METHOD:PUBLISH
X-ORIGINAL-URL:https://visitrhea.com
X-WR-CALDESC:Events for Rhea County Tourism
REFRESH-INTERVAL;VALUE=DURATION:PT1H
X-Robots-Tag:noindex
X-PUBLISHED-TTL:PT1H
BEGIN:VTIMEZONE
TZID:UTC
BEGIN:STANDARD
TZOFFSETFROM:+0000
TZOFFSETTO:+0000
TZNAME:UTC
DTSTART:20230101T000000
END:STANDARD
END:VTIMEZONE
BEGIN:VEVENT
DTSTART;TZID=UTC:20241113T080000
DTEND;TZID=UTC:20241113T170000
DTSTAMP:20260420T085029
CREATED:20241113T164733Z
LAST-MODIFIED:20241113T164733Z
UID:10000046-1731484800-1731517200@visitrhea.com
SUMMARY:Spring City Chamber of Commerce Christmas at the Depot Festival and Parade
DESCRIPTION:Craft Vendors and Food Trucks\, Photos with Santa from 10:30 am-12:30 pm. Music Entertainers\, Christmas Sweater Contest\, Snowball Smackdown at 1:30 pm\, Parade at 2 pm.
URL:https://visitrhea.com/event/spring-city-chamber-of-commerce-christmas-at-the-depot-festival-and-parade/
LOCATION:Tennessee
END:VEVENT
BEGIN:VEVENT
DTSTART;TZID=UTC:20241113T160000
DTEND;TZID=UTC:20241113T170000
DTSTAMP:20260420T085029
CREATED:20241109T000710Z
LAST-MODIFIED:20241109T000710Z
UID:10000014-1731513600-1731517200@visitrhea.com
SUMMARY:Student Recital Hour
DESCRIPTION:
URL:https://visitrhea.com/event/student-recital-hour/
LOCATION:Rudd Auditorium\, 721 Bryan Dr\, Dayton\, Tennessee\, 37321
END:VEVENT
BEGIN:VEVENT
DTSTART;TZID=UTC:20241113T190000
DTEND;TZID=UTC:20241113T220000
DTSTAMP:20260420T085029
CREATED:20241109T000414Z
LAST-MODIFIED:20241109T000414Z
UID:10000013-1731524400-1731535200@visitrhea.com
SUMMARY:Smarty Pants Trivia
DESCRIPTION:
URL:https://visitrhea.com/event/smarty-pants-trivia-2/
LOCATION:Watts Bar Beer Works\, 353 Front St\, Spring City\, TN\, 37381\, United States
END:VEVENT
BEGIN:VEVENT
DTSTART;TZID=UTC:20241114T170000
DTEND;TZID=UTC:20241114T200000
DTSTAMP:20260420T085029
CREATED:20241111T190726Z
LAST-MODIFIED:20241111T190803Z
UID:10000015-1731603600-1731614400@visitrhea.com
SUMMARY:Holiday Stroll
DESCRIPTION:Welcome to Holiday Stroll\, where the spirit of the season comes alive amidst a twinkling tapestry of lights\, joyful laughter\, and the aroma of seasonal delights. Join us for a heartwarming celebration that kicks off the holiday shopping season in style\, featuring local artisans\, live entertainment\, and the grand illumination of our magnificent tree. Gather your loved ones\, sip on hot cocoa\, and stroll through the enchanting streets of our downtown as we come together to create cherished memories and spread the joy of the holidays. Come experience the magic of Holiday Stroll and ignite your festive spirit with us!
URL:https://visitrhea.com/event/holiday-stroll/
LOCATION:Rhea County Courthouse\, 1475 Market Street\, Dayton\, Tennessee\, 37321
END:VEVENT
BEGIN:VEVENT
DTSTART;TZID=UTC:20241115T170000
DTEND;TZID=UTC:20241115T190000
DTSTAMP:20260420T085029
CREATED:20241111T190902Z
LAST-MODIFIED:20241111T190902Z
UID:10000016-1731690000-1731697200@visitrhea.com
SUMMARY:Happy Hour
DESCRIPTION:
URL:https://visitrhea.com/event/happy-hour-2/
LOCATION:Watts Bar Beer Works\, 353 Front St\, Spring City\, TN\, 37381\, United States
END:VEVENT
BEGIN:VEVENT
DTSTART;TZID=UTC:20241116T190000
DTEND;TZID=UTC:20241116T220000
DTSTAMP:20260420T085029
CREATED:20241111T190958Z
LAST-MODIFIED:20241111T190958Z
UID:10000017-1731783600-1731794400@visitrhea.com
SUMMARY:Live Music
DESCRIPTION:
URL:https://visitrhea.com/event/live-music-3/
LOCATION:Watts Bar Beer Works\, 353 Front St\, Spring City\, TN\, 37381\, United States
END:VEVENT
BEGIN:VEVENT
DTSTART;TZID=UTC:20241117T143000
DTEND;TZID=UTC:20241117T153000
DTSTAMP:20260420T085030
CREATED:20241111T191603Z
LAST-MODIFIED:20241111T191603Z
UID:10000018-1731853800-1731857400@visitrhea.com
SUMMARY:Rhea County Historical Society Meeting
DESCRIPTION:Open to the Public. Located on the second floor of the courthouse.
URL:https://visitrhea.com/event/rhea-county-historical-society-meeting/
LOCATION:Rhea County Courthouse\, 1475 Market Street\, Dayton\, Tennessee\, 37321
END:VEVENT
BEGIN:VEVENT
DTSTART;TZID=UTC:20241119T190000
DTEND;TZID=UTC:20241119T200000
DTSTAMP:20260420T085030
CREATED:20241119T203145Z
LAST-MODIFIED:20241119T203145Z
UID:10000198-1732042800-1732046400@visitrhea.com
SUMMARY:The Scopes Trial; Destiny in Dayton
DESCRIPTION:Includes dinner on the courthouse lawn following the show with members of the Destiny Cast.
URL:https://visitrhea.com/event/the-scopes-trial-destiny-in-dayton-4/
LOCATION:Rhea County Courthouse\, 1475 Market Street\, Dayton\, Tennessee\, 37321
END:VEVENT
BEGIN:VEVENT
DTSTART;TZID=UTC:20241120T100000
DTEND;TZID=UTC:20241120T110000
DTSTAMP:20260420T085030
CREATED:20241111T200347Z
LAST-MODIFIED:20241111T200347Z
UID:10000026-1732096800-1732100400@visitrhea.com
SUMMARY:Guided Fossil Hike
DESCRIPTION:Located in the Laurel-Snow State Recreation Area\, this is a FREE activity great for all ages. Learn about Dayton’s history\, including coal mines\, the Scopes trial\, and hunt for a prehistoric forest in unusual geology.
URL:https://visitrhea.com/event/guided-fossil-hike/
LOCATION:Laurel-Snow State Recreation Area\, 7937 Rhea County Hwy Suite 106\, Dayton\, Tennessee\, 37321
END:VEVENT
BEGIN:VEVENT
DTSTART;TZID=UTC:20241120T120000
DTEND;TZID=UTC:20241120T133000
DTSTAMP:20260420T085030
CREATED:20241119T214545Z
LAST-MODIFIED:20241119T214545Z
UID:10000218-1732104000-1732109400@visitrhea.com
SUMMARY:Dayton Lunch Bunch
DESCRIPTION:
URL:https://visitrhea.com/event/dayton-lunch-bunch/
LOCATION:Monkeytown Brewing Company\, 287 1st Ave\, Dayton\, Tennessee\, 37321
END:VEVENT
BEGIN:VEVENT
DTSTART;TZID=UTC:20241120T190000
DTEND;TZID=UTC:20241120T200000
DTSTAMP:20260420T085030
CREATED:20241120T155154Z
LAST-MODIFIED:20241120T155154Z
UID:10000254-1732129200-1732132800@visitrhea.com
SUMMARY:Singo
DESCRIPTION:
URL:https://visitrhea.com/event/singo/
LOCATION:Monkey Town Brewing Co.\, 287 1st Avenue\, Dayton\, Tennessee\, 37321
END:VEVENT
BEGIN:VEVENT
DTSTART;TZID=UTC:20241120T190000
DTEND;TZID=UTC:20241120T220000
DTSTAMP:20260420T085030
CREATED:20241111T200117Z
LAST-MODIFIED:20241111T200117Z
UID:10000025-1732129200-1732140000@visitrhea.com
SUMMARY:Smarty Pants Trivia
DESCRIPTION:
URL:https://visitrhea.com/event/smarty-pants-trivia-3/
LOCATION:Watts Bar Beer Works\, 353 Front St\, Spring City\, TN\, 37381\, United States
END:VEVENT
BEGIN:VEVENT
DTSTART;VALUE=DATE:20241122
DTEND;VALUE=DATE:20241124
DTSTAMP:20260420T085030
CREATED:20241119T173752Z
LAST-MODIFIED:20241119T173752Z
UID:10000155-1732233600-1732406399@visitrhea.com
SUMMARY:NACA: Regional Southern Shootout Basketball
DESCRIPTION:Rossville\, GA
URL:https://visitrhea.com/event/naca-regional-southern-shootout-basketball/
LOCATION:Tennessee
END:VEVENT
BEGIN:VEVENT
DTSTART;TZID=UTC:20241122T170000
DTEND;TZID=UTC:20241122T190000
DTSTAMP:20260420T085030
CREATED:20241111T200434Z
LAST-MODIFIED:20241111T200434Z
UID:10000027-1732294800-1732302000@visitrhea.com
SUMMARY:Happy Hour
DESCRIPTION:
URL:https://visitrhea.com/event/happy-hour-3/
LOCATION:Watts Bar Beer Works\, 353 Front St\, Spring City\, TN\, 37381\, United States
END:VEVENT
BEGIN:VEVENT
DTSTART;TZID=UTC:20241123T190000
DTEND;TZID=UTC:20241123T220000
DTSTAMP:20260420T085030
CREATED:20241111T200534Z
LAST-MODIFIED:20241111T200534Z
UID:10000028-1732388400-1732399200@visitrhea.com
SUMMARY:Live Music
DESCRIPTION:
URL:https://visitrhea.com/event/live-music-4/
LOCATION:Watts Bar Beer Works\, 353 Front St\, Spring City\, TN\, 37381\, United States
END:VEVENT
BEGIN:VEVENT
DTSTART;TZID=UTC:20241127T190000
DTEND;TZID=UTC:20241127T200000
DTSTAMP:20260420T085030
CREATED:20241120T155245Z
LAST-MODIFIED:20241120T155245Z
UID:10000255-1732734000-1732737600@visitrhea.com
SUMMARY:Singo
DESCRIPTION:
URL:https://visitrhea.com/event/singo-2/
LOCATION:Monkey Town Brewing Co.\, 287 1st Avenue\, Dayton\, Tennessee\, 37321
END:VEVENT
BEGIN:VEVENT
DTSTART;TZID=UTC:20241127T190000
DTEND;TZID=UTC:20241127T220000
DTSTAMP:20260420T085030
CREATED:20241111T200620Z
LAST-MODIFIED:20241111T200620Z
UID:10000029-1732734000-1732744800@visitrhea.com
SUMMARY:Smarty Pants Trivia
DESCRIPTION:
URL:https://visitrhea.com/event/smarty-pants-trivia-4/
LOCATION:Watts Bar Beer Works\, 353 Front St\, Spring City\, TN\, 37381\, United States
END:VEVENT
BEGIN:VEVENT
DTSTART;TZID=UTC:20241129T170000
DTEND;TZID=UTC:20241129T190000
DTSTAMP:20260420T085030
CREATED:20241111T200733Z
LAST-MODIFIED:20241111T200733Z
UID:10000030-1732899600-1732906800@visitrhea.com
SUMMARY:Happy Hour
DESCRIPTION:
URL:https://visitrhea.com/event/happy-hour-4/
LOCATION:Watts Bar Beer Works\, 353 Front St\, Spring City\, TN\, 37381\, United States
END:VEVENT
BEGIN:VEVENT
DTSTART;TZID=UTC:20241130T190000
DTEND;TZID=UTC:20241130T220000
DTSTAMP:20260420T085030
CREATED:20241111T200813Z
LAST-MODIFIED:20241111T200813Z
UID:10000031-1732993200-1733004000@visitrhea.com
SUMMARY:Live Music
DESCRIPTION:
URL:https://visitrhea.com/event/live-music-5/
LOCATION:Watts Bar Beer Works\, 353 Front St\, Spring City\, TN\, 37381\, United States
END:VEVENT
BEGIN:VEVENT
DTSTART;TZID=UTC:20241203T190000
DTEND;TZID=UTC:20241203T200000
DTSTAMP:20260420T085030
CREATED:20241112T195845Z
LAST-MODIFIED:20241112T195845Z
UID:10000032-1733252400-1733256000@visitrhea.com
SUMMARY:Graysville Tennessee Monthly Commission Meeting
DESCRIPTION:
URL:https://visitrhea.com/event/graysville-tennessee-monthly-commission-meeting-2/
LOCATION:Graysville Municipal Building\, 136 Harrison Ave\, Graysville\, TN\, 37738\, United States
END:VEVENT
BEGIN:VEVENT
DTSTART;TZID=UTC:20241204T190000
DTEND;TZID=UTC:20241204T200000
DTSTAMP:20260420T085030
CREATED:20241120T155326Z
LAST-MODIFIED:20241120T155326Z
UID:10000256-1733338800-1733342400@visitrhea.com
SUMMARY:Singo
DESCRIPTION:
URL:https://visitrhea.com/event/singo-3/
LOCATION:Monkey Town Brewing Co.\, 287 1st Avenue\, Dayton\, Tennessee\, 37321
END:VEVENT
BEGIN:VEVENT
DTSTART;TZID=UTC:20241204T190000
DTEND;TZID=UTC:20241204T220000
DTSTAMP:20260420T085030
CREATED:20241113T162354Z
LAST-MODIFIED:20241113T162354Z
UID:10000033-1733338800-1733349600@visitrhea.com
SUMMARY:Smarty Pants Trivia
DESCRIPTION:
URL:https://visitrhea.com/event/smarty-pants-trivia-5/
LOCATION:Watts Bar Beer Works\, 353 Front St\, Spring City\, TN\, 37381\, United States
END:VEVENT
BEGIN:VEVENT
DTSTART;TZID=UTC:20241206T170000
DTEND;TZID=UTC:20241206T190000
DTSTAMP:20260420T085030
CREATED:20241113T163031Z
LAST-MODIFIED:20241113T163031Z
UID:10000034-1733504400-1733511600@visitrhea.com
SUMMARY:Happy Hour
DESCRIPTION:
URL:https://visitrhea.com/event/happy-hour-5/
LOCATION:Watts Bar Beer Works\, 353 Front St\, Spring City\, TN\, 37381\, United States
END:VEVENT
BEGIN:VEVENT
DTSTART;TZID=UTC:20241207T120000
DTEND;TZID=UTC:20241207T160000
DTSTAMP:20260420T085030
CREATED:20241113T163425Z
LAST-MODIFIED:20241113T163425Z
UID:10000037-1733572800-1733587200@visitrhea.com
SUMMARY:Christmas at the Courthouse
DESCRIPTION:Join us for a festive extravaganza at Christmas at the Courthouse\, a heartwarming celebration that brings together the spirit of the holidays and the warmth of community. From twinkling lights and joyful carols to artisanal crafts and a non-motorized parade\, immerse yourself in the magic of the season as we gather to spread joy\, laughter\, and goodwill. Come create cherished memories with your loved ones and experience the true essence of the holidays at Christmas at the Courthouse.
URL:https://visitrhea.com/event/christmas-at-the-courthouse/
LOCATION:Rhea County Courthouse\, 1475 Market Street\, Dayton\, Tennessee\, 37321
END:VEVENT
BEGIN:VEVENT
DTSTART;TZID=UTC:20241207T140000
DTEND;TZID=UTC:20241207T150000
DTSTAMP:20260420T085030
CREATED:20241113T163603Z
LAST-MODIFIED:20241113T163603Z
UID:10000038-1733580000-1733583600@visitrhea.com
SUMMARY:It's a Wonderful Life Radio Drama
DESCRIPTION:Join us this holiday season for this year’s production of It’s A Wonderful Life at 2 p.m. on Dec. 7 at the historic Rhea County Courthouse in Downtown Dayton. This beloved holiday classic will come to life in the form of a 1940’s Radio Theater production.
URL:https://visitrhea.com/event/its-a-wonderful-life-radio-drama/
LOCATION:Rhea County Courthouse\, 1475 Market Street\, Dayton\, Tennessee\, 37321
END:VEVENT
BEGIN:VEVENT
DTSTART;TZID=UTC:20241207T190000
DTEND;TZID=UTC:20241207T220000
DTSTAMP:20260420T085030
CREATED:20241113T163147Z
LAST-MODIFIED:20241113T163147Z
UID:10000035-1733598000-1733608800@visitrhea.com
SUMMARY:Live Music
DESCRIPTION:
URL:https://visitrhea.com/event/live-music-6/
LOCATION:Watts Bar Beer Works\, 353 Front St\, Spring City\, TN\, 37381\, United States
END:VEVENT
BEGIN:VEVENT
DTSTART;TZID=UTC:20241207T190000
DTEND;TZID=UTC:20241207T230000
DTSTAMP:20260420T085030
CREATED:20241113T163241Z
LAST-MODIFIED:20241113T163241Z
UID:10000036-1733598000-1733612400@visitrhea.com
SUMMARY:Christmas Banquet/Ugly Sweater Edition
DESCRIPTION:
URL:https://visitrhea.com/event/christmas-banquet-ugly-sweater-edition/
LOCATION:Tennessee Valley Theatre\, 184 W Jackson Ave\, Spring City\, Tennessee\, 37381
END:VEVENT
BEGIN:VEVENT
DTSTART;TZID=UTC:20241208T180000
DTEND;TZID=UTC:20241208T200000
DTSTAMP:20260420T085030
CREATED:20241113T163750Z
LAST-MODIFIED:20241113T163750Z
UID:10000039-1733680800-1733688000@visitrhea.com
SUMMARY:Community Christmas Concert
DESCRIPTION:The Bryan College Chorale and area churches combine as a 100-voice choir to celebrate our Savior’s birth. Free Concert!
URL:https://visitrhea.com/event/community-christmas-concert/
LOCATION:Bryan College
END:VEVENT
BEGIN:VEVENT
DTSTART;TZID=UTC:20241209T190000
DTEND;TZID=UTC:20241209T203000
DTSTAMP:20260420T085030
CREATED:20241113T163916Z
LAST-MODIFIED:20241113T163916Z
UID:10000040-1733770800-1733776200@visitrhea.com
SUMMARY:Youth Choir & Piano Ensemble Concert at Osborne Hall
DESCRIPTION:Join our Youth Choir and High School Piano Ensemble for an evening of seasonal songs and collaborative music!
URL:https://visitrhea.com/event/youth-choir-piano-ensemble-concert-at-osborne-hall/
LOCATION:Bryan College
END:VEVENT
BEGIN:VEVENT
DTSTART;TZID=UTC:20241210T183000
DTEND;TZID=UTC:20241210T193000
DTSTAMP:20260420T085030
CREATED:20241113T164320Z
LAST-MODIFIED:20241113T164320Z
UID:10000042-1733855400-1733859000@visitrhea.com
SUMMARY:PAA Student Recitals at Rudd Auditorium
DESCRIPTION:Invite friends and family to come hear our students perform our end-of-semester recitals. Reception in the lobby to follow.
URL:https://visitrhea.com/event/paa-student-recitals-at-rudd-auditorium/
LOCATION:Bryan College
END:VEVENT
END:VCALENDAR