BEGIN:VCALENDAR
VERSION:2.0
PRODID:-//Rhea County Tourism - ECPv6.15.18//NONSGML v1.0//EN
CALSCALE:GREGORIAN
METHOD:PUBLISH
X-ORIGINAL-URL:https://visitrhea.com
X-WR-CALDESC:Events for Rhea County Tourism
REFRESH-INTERVAL;VALUE=DURATION:PT1H
X-Robots-Tag:noindex
X-PUBLISHED-TTL:PT1H
BEGIN:VTIMEZONE
TZID:UTC
BEGIN:STANDARD
TZOFFSETFROM:+0000
TZOFFSETTO:+0000
TZNAME:UTC
DTSTART:20240101T000000
END:STANDARD
END:VTIMEZONE
BEGIN:VEVENT
DTSTART;TZID=UTC:20251004T080000
DTEND;TZID=UTC:20251004T170000
DTSTAMP:20260420T085137
CREATED:20250825T144805Z
LAST-MODIFIED:20250825T144805Z
UID:10002158-1759564800-1759597200@visitrhea.com
SUMMARY:2025 Lions Homecoming 5K
DESCRIPTION:5K & 1-Mile Fun Run/Walk \n  \nAll proceeds will support the Bryan College Cross Country/ Track and Field Teams!
URL:https://visitrhea.com/event/2025-lions-homecoming-5k/
LOCATION:Rudd Auditorium\, 721 Bryan Dr\, Dayton\, Tennessee\, 37321
ATTACH;FMTTYPE=image/jpeg:https://visitrhea.com/wp-content/uploads/2025/08/Lions-Homecoming-5K-scaled-e1757348802812.jpg
END:VEVENT
BEGIN:VEVENT
DTSTART;TZID=UTC:20251004T090000
DTEND;TZID=UTC:20251004T160000
DTSTAMP:20260420T085137
CREATED:20250724T134227Z
LAST-MODIFIED:20250724T134513Z
UID:10001842-1759568400-1759593600@visitrhea.com
SUMMARY:Fall Festival & Quilt Show
DESCRIPTION:Join us on Oct 4 for the Fall Festival & Quilt Show at the Grandview community center/club! Featuring multiple local vendors \, food trucks \, FREE bounce houses \, and quilting demonstrations !\n\n\nDon’t miss out\, this event will be jam-packed with fun \n\n\nFREE bounce houses by Mr. B’s Bouncers and Party Rentals \n\n\nFood by Southern Comfort Kitchen and more\n\n\nFall mini sessions with The Human Touch Photography \n\n\nLocal shopping \n\n\nQuilting demonstrations\n\n\n& MORE\n\n\nWould you like to be a vendor? Please call or message Angel Nicole Morgan\, or fill out the form below. Vendor spots are only $25; 50% of the vendor fees will go to the Grandview Community Center\n\n\nhttps://docs.google.com/…/1FAIpQLSdNzxLjgoi…/viewform…
URL:https://visitrhea.com/event/fall-festival-quilt-show/
LOCATION:Grandview Community Center\, 175 Emergency Rd\, Grandview\, Tennessee\, 37337
ATTACH;FMTTYPE=image/jpeg:https://visitrhea.com/wp-content/uploads/2025/07/Fall-Festival-Quilt-Show.jpg
END:VEVENT
BEGIN:VEVENT
DTSTART;TZID=UTC:20251004T120000
DTEND;TZID=UTC:20251004T170000
DTSTAMP:20260420T085137
CREATED:20250924T192708Z
LAST-MODIFIED:20250924T192708Z
UID:10002222-1759579200-1759597200@visitrhea.com
SUMMARY:Fall Festival Fundraiser
DESCRIPTION:Enjoy Autumn Fun! Food\, face painting\, pumpkin painting\, balloon animals\, hayrides\, a fall maze\, live music\, vendor booths\, a live auction\, and so much more!
URL:https://visitrhea.com/event/fall-festival-fundraiser/
LOCATION:Fort Bluff Camp\, 370 Fort Bluff Camp Rd\, Dayton\, Tennessee\, 37321
ATTACH;FMTTYPE=image/jpeg:https://visitrhea.com/wp-content/uploads/2025/09/2025-Fall-Festival-Flyer-scaled.jpg
END:VEVENT
BEGIN:VEVENT
DTSTART;TZID=UTC:20251004T140000
DTEND;TZID=UTC:20251004T210000
DTSTAMP:20260420T085137
CREATED:20251001T182535Z
LAST-MODIFIED:20251001T182535Z
UID:10002308-1759586400-1759611600@visitrhea.com
SUMMARY:30 Year Anniversary Event
DESCRIPTION:Who wouldn’t LOVE to take part in a Teddy Bear Clinic or a Pet costume contest?? There’s even live music\, food\, and a bounce house in the evening! Definitely NOT your typical vet office! Let’s help this exceptional office celebrate 30 years of care\, love\, claws\, compassion\, meows\, and tail wags!
URL:https://visitrhea.com/event/30-year-anniversary-event/
LOCATION:South Rhea Animal Hospital\, 865 Rhea County Highway\, Dayton\, Tennessee\, 37321
ATTACH;FMTTYPE=image/jpeg:https://visitrhea.com/wp-content/uploads/2025/10/South-Rhea-Animal-Hospital-1.jpg
END:VEVENT
BEGIN:VEVENT
DTSTART;TZID=UTC:20251004T180000
DTEND;TZID=UTC:20251004T210000
DTSTAMP:20260420T085137
CREATED:20250924T163808Z
LAST-MODIFIED:20250924T163808Z
UID:10002214-1759600800-1759611600@visitrhea.com
SUMMARY:Live Music
DESCRIPTION:Live music w/ Junction South 6 pm\nFood truck is The Crust Crab
URL:https://visitrhea.com/event/live-music-59/
LOCATION:Watts Bar Beer Works\, 353 Front St\, Spring City\, TN\, 37381\, United States
END:VEVENT
BEGIN:VEVENT
DTSTART;TZID=UTC:20251004T193000
DTEND;TZID=UTC:20251004T220000
DTSTAMP:20260420T085137
CREATED:20250924T163009Z
LAST-MODIFIED:20250924T163009Z
UID:10002198-1759606200-1759615200@visitrhea.com
SUMMARY:Little Shop of Horrors
DESCRIPTION:Tennessee Valley Theatre presents Little Shop of Horrors by Howard Ashman and Alan Menken \nShowtimes: \nFriday\, October 3\, 2025 @ 7:30 PM \nSaturday\, October 4\, 2025 @ 7:30 PM \nSunday\, October 5\, 2025 @ 2:00 PM \nFriday\, October 10\, 2025 @ 7:30 PM \nSaturday\, October 11\, 2025 @ 7:30 PM \nSunday\, October 12\, 2025 @ 2:00 PM \nIf you would like more information about this release\, please contact the TVT at (423) 365PLAY (7529)\, 865-805-6670 or email at tennesseevalleytheatre@gmail.com. \nLittle Shop Press Release
URL:https://visitrhea.com/event/little-shop-of-horrors/2025-10-04/
LOCATION:Tennessee Valley Theatre\, 184 W Jackson Ave\, Spring City\, Tennessee\, 37381
ATTACH;FMTTYPE=image/jpeg:https://visitrhea.com/wp-content/uploads/2025/09/Little-Shop-Poster.jpg
END:VEVENT
BEGIN:VEVENT
DTSTART;VALUE=DATE:20251005
DTEND;VALUE=DATE:20251006
DTSTAMP:20260420T085137
CREATED:20250122T172600Z
LAST-MODIFIED:20250122T172600Z
UID:10000405-1759622400-1759708799@visitrhea.com
SUMMARY:Fishing Tournament - Rhea Alliance
DESCRIPTION:Boat Count: 60
URL:https://visitrhea.com/event/fishing-tournament-rhea-alliance-2/
LOCATION:Spring City Resort and Marina\, 2109 New Lake Road\, Spring City\, Tennessee\, 37381
END:VEVENT
BEGIN:VEVENT
DTSTART;TZID=UTC:20251005T120000
DTEND;TZID=UTC:20251005T170000
DTSTAMP:20260420T085137
CREATED:20250930T170256Z
LAST-MODIFIED:20250930T170256Z
UID:10002224-1759665600-1759683600@visitrhea.com
SUMMARY:Harvest Fest
DESCRIPTION:It’s Harvest Fest time with the Laurelbrook Volunteer Fire Department! \nJoin them on October 5 from 12–5 pm for food\, crafts\, yard games\, face painting\, a photo booth\, and more. \nVendors with homemade or homegrown goods are needed; booth $15\, table $5. Call 423-775-1530 to reserve your spot. \nDon’t miss the fun (Sparky might even stop by)!
URL:https://visitrhea.com/event/harvest-fest/
LOCATION:Laurelbrook Volunteer Fire Department\, 223 Winsent Drive\, Dayton\, Tennessee\, 37321
ATTACH;FMTTYPE=image/png:https://visitrhea.com/wp-content/uploads/2025/09/image-2.png
END:VEVENT
BEGIN:VEVENT
DTSTART;TZID=UTC:20251005T130000
DTEND;TZID=UTC:20251005T190000
DTSTAMP:20260420T085137
CREATED:20250924T164057Z
LAST-MODIFIED:20250924T164057Z
UID:10002218-1759669200-1759690800@visitrhea.com
SUMMARY:NFL Live Ticket
DESCRIPTION:Out of market games from 1 – 7 pm
URL:https://visitrhea.com/event/nfl-live-ticket-2/2025-10-05/
LOCATION:Watts Bar Beer Works\, 353 Front St\, Spring City\, TN\, 37381\, United States
END:VEVENT
BEGIN:VEVENT
DTSTART;TZID=UTC:20251005T140000
DTEND;TZID=UTC:20251005T173000
DTSTAMP:20260420T085137
CREATED:20250924T163009Z
LAST-MODIFIED:20250924T163009Z
UID:10002199-1759672800-1759685400@visitrhea.com
SUMMARY:Little Shop of Horrors
DESCRIPTION:Tennessee Valley Theatre presents Little Shop of Horrors by Howard Ashman and Alan Menken \nShowtimes: \nFriday\, October 3\, 2025 @ 7:30 PM \nSaturday\, October 4\, 2025 @ 7:30 PM \nSunday\, October 5\, 2025 @ 2:00 PM \nFriday\, October 10\, 2025 @ 7:30 PM \nSaturday\, October 11\, 2025 @ 7:30 PM \nSunday\, October 12\, 2025 @ 2:00 PM \nIf you would like more information about this release\, please contact the TVT at (423) 365PLAY (7529)\, 865-805-6670 or email at tennesseevalleytheatre@gmail.com. \nLittle Shop Press Release
URL:https://visitrhea.com/event/little-shop-of-horrors/2025-10-05/
LOCATION:Tennessee Valley Theatre\, 184 W Jackson Ave\, Spring City\, Tennessee\, 37381
ATTACH;FMTTYPE=image/jpeg:https://visitrhea.com/wp-content/uploads/2025/09/Little-Shop-Poster.jpg
END:VEVENT
BEGIN:VEVENT
DTSTART;TZID=UTC:20251007T103000
DTEND;TZID=UTC:20251007T120000
DTSTAMP:20260420T085137
CREATED:20250805T144035Z
LAST-MODIFIED:20250805T144035Z
UID:10002048-1759833000-1759838400@visitrhea.com
SUMMARY:Rc3 Fall Homeschool P.E.
DESCRIPTION:Join Rc3 for a 10-week program of activity and healthy bodies! \nAges K – 6th \ncall 423-775-0821 for more information
URL:https://visitrhea.com/event/rc3-fall-homeschool-p-e/2025-10-07/
LOCATION:Rhea County Community Center\, 232 4th Avenue\, Dayton\, Tennessee\, 37321
ATTACH;FMTTYPE=image/jpeg:https://visitrhea.com/wp-content/uploads/2025/08/Fall-Homeschool-P.E-scaled.jpg
END:VEVENT
BEGIN:VEVENT
DTSTART;TZID=UTC:20251007T120000
DTEND;TZID=UTC:20251007T130000
DTSTAMP:20260420T085137
CREATED:20251001T181425Z
LAST-MODIFIED:20251001T181425Z
UID:10002304-1759838400-1759842000@visitrhea.com
SUMMARY:Munch a Lunch
DESCRIPTION:
URL:https://visitrhea.com/event/munch-a-lunch-5/
LOCATION:Clyde W Roddy Library\, 371 1st Avenue\, Dayton\, Tennessee\, 37321
ATTACH;FMTTYPE=image/png:https://visitrhea.com/wp-content/uploads/2025/10/Munch-A-Lunch-Oct.-2025-update-x2.png
END:VEVENT
BEGIN:VEVENT
DTSTART;TZID=UTC:20251007T153000
DTEND;TZID=UTC:20251007T170000
DTSTAMP:20260420T085137
CREATED:20251001T175033Z
LAST-MODIFIED:20251001T175222Z
UID:10002293-1759851000-1759856400@visitrhea.com
SUMMARY:Kid Connect
DESCRIPTION:
URL:https://visitrhea.com/event/kid-connect-2/2025-10-07/
LOCATION:Clyde W Roddy Library\, 371 1st Avenue\, Dayton\, Tennessee\, 37321
ATTACH;FMTTYPE=image/jpeg:https://visitrhea.com/wp-content/uploads/2025/10/KID-KONNECT-TICKET.jpg
END:VEVENT
BEGIN:VEVENT
DTSTART;TZID=UTC:20251008T093000
DTEND;TZID=UTC:20251008T113000
DTSTAMP:20260420T085137
CREATED:20251001T174848Z
LAST-MODIFIED:20251001T175402Z
UID:10002235-1759915800-1759923000@visitrhea.com
SUMMARY:Preschool Story Hour
DESCRIPTION:Ages 3-6 \nat 9:30 am & 10:30 am
URL:https://visitrhea.com/event/preschool-story-hour-5/2025-10-08/
LOCATION:Clyde W Roddy Library\, 371 1st Avenue\, Dayton\, Tennessee\, 37321
ATTACH;FMTTYPE=image/jpeg:https://visitrhea.com/wp-content/uploads/2025/10/preschool.jpg
END:VEVENT
BEGIN:VEVENT
DTSTART;TZID=UTC:20251008T190000
DTEND;TZID=UTC:20251008T200000
DTSTAMP:20260420T085137
CREATED:20241120T170901Z
LAST-MODIFIED:20241120T170901Z
UID:10000300-1759950000-1759953600@visitrhea.com
SUMMARY:Singo
DESCRIPTION:
URL:https://visitrhea.com/event/singo-47/
LOCATION:Monkey Town Brewing Co.\, 287 1st Avenue\, Dayton\, Tennessee\, 37321
END:VEVENT
BEGIN:VEVENT
DTSTART;TZID=UTC:20251008T190000
DTEND;TZID=UTC:20251008T220000
DTSTAMP:20260420T085137
CREATED:20250924T163328Z
LAST-MODIFIED:20250924T163328Z
UID:10002206-1759950000-1759960800@visitrhea.com
SUMMARY:Smarty Pants Trivia
DESCRIPTION:
URL:https://visitrhea.com/event/smarty-pants-trivia-56/2025-10-08/
LOCATION:Watts Bar Beer Works\, 353 Front St\, Spring City\, TN\, 37381\, United States
END:VEVENT
BEGIN:VEVENT
DTSTART;TZID=UTC:20251009T090000
DTEND;TZID=UTC:20251009T100000
DTSTAMP:20260420T085137
CREATED:20251001T180304Z
LAST-MODIFIED:20251001T180304Z
UID:10002300-1760000400-1760004000@visitrhea.com
SUMMARY:Bingo
DESCRIPTION:
URL:https://visitrhea.com/event/bingo-57/
LOCATION:Clyde W Roddy Library\, 371 1st Avenue\, Dayton\, Tennessee\, 37321
END:VEVENT
BEGIN:VEVENT
DTSTART;TZID=UTC:20251009T153000
DTEND;TZID=UTC:20251009T190000
DTSTAMP:20260420T085137
CREATED:20250917T150244Z
LAST-MODIFIED:20250917T150244Z
UID:10002190-1760023800-1760036400@visitrhea.com
SUMMARY:Community Plant Swap
DESCRIPTION:Topics Covered: “Sessions to begin every 20 minutes starting at 4:OOpm \n\nPlant Propagation Basics\nWinterization of Plants\nRaised vs Inground\nGardening\nPlant Nutrition\nSpring Gardening Prep\nCompanion Planting\nSeeds vs Transplants\nPlant Requirements\nQ and A with Gardening Experts\n\nBring a Plant – Take a Plant!
URL:https://visitrhea.com/event/community-plant-swap/
ATTACH;FMTTYPE=image/jpeg:https://visitrhea.com/wp-content/uploads/2025/09/Plant-Swap-scaled.jpg
END:VEVENT
BEGIN:VEVENT
DTSTART;TZID=UTC:20251009T180000
DTEND;TZID=UTC:20251009T190000
DTSTAMP:20260420T085137
CREATED:20250708T204955Z
LAST-MODIFIED:20250708T210650Z
UID:10001687-1760032800-1760036400@visitrhea.com
SUMMARY:Spring City Planning Commission Meeting (meets as needed)
DESCRIPTION:
URL:https://visitrhea.com/event/spring-city-planning-commission-meeting/2025-10-09/
LOCATION:229 Front Street\, 229 Front Street\, Spring City\, Tennessee\, 37381
END:VEVENT
BEGIN:VEVENT
DTSTART;TZID=UTC:20251009T180000
DTEND;TZID=UTC:20251009T200000
DTSTAMP:20260420T085137
CREATED:20241218T151531Z
LAST-MODIFIED:20241218T151531Z
UID:10000357-1760032800-1760040000@visitrhea.com
SUMMARY:Bingo
DESCRIPTION:
URL:https://visitrhea.com/event/bingo-44/
LOCATION:Pizza King\, 4703 Dayton Mtn Hwy\, Dayton\, Tennessee
END:VEVENT
BEGIN:VEVENT
DTSTART;TZID=UTC:20251010T100000
DTEND;TZID=UTC:20251010T110000
DTSTAMP:20260420T085137
CREATED:20251001T174411Z
LAST-MODIFIED:20251001T174441Z
UID:10002112-1760090400-1760094000@visitrhea.com
SUMMARY:Toddler Time
DESCRIPTION:
URL:https://visitrhea.com/event/toddler-time-3/2025-10-10/
LOCATION:Clyde W Roddy Library\, 371 1st Avenue\, Dayton\, Tennessee\, 37321
ATTACH;FMTTYPE=image/jpeg:https://visitrhea.com/wp-content/uploads/2025/08/toddlertimeimage-Copy-3-Copy-scaled.jpg
END:VEVENT
BEGIN:VEVENT
DTSTART;TZID=UTC:20251010T190000
DTEND;TZID=UTC:20251010T210000
DTSTAMP:20260420T085137
CREATED:20250924T163538Z
LAST-MODIFIED:20250924T163538Z
UID:10002212-1760122800-1760130000@visitrhea.com
SUMMARY:Cricket Doubles Dart Tournament
DESCRIPTION:
URL:https://visitrhea.com/event/cricket-doubles-dart-tournament/2025-10-10/
LOCATION:Watts Bar Beer Works\, 353 Front St\, Spring City\, TN\, 37381\, United States
END:VEVENT
BEGIN:VEVENT
DTSTART;TZID=UTC:20251010T193000
DTEND;TZID=UTC:20251010T220000
DTSTAMP:20260420T085137
CREATED:20250924T163009Z
LAST-MODIFIED:20250924T163009Z
UID:10002200-1760124600-1760133600@visitrhea.com
SUMMARY:Little Shop of Horrors
DESCRIPTION:Tennessee Valley Theatre presents Little Shop of Horrors by Howard Ashman and Alan Menken \nShowtimes: \nFriday\, October 3\, 2025 @ 7:30 PM \nSaturday\, October 4\, 2025 @ 7:30 PM \nSunday\, October 5\, 2025 @ 2:00 PM \nFriday\, October 10\, 2025 @ 7:30 PM \nSaturday\, October 11\, 2025 @ 7:30 PM \nSunday\, October 12\, 2025 @ 2:00 PM \nIf you would like more information about this release\, please contact the TVT at (423) 365PLAY (7529)\, 865-805-6670 or email at tennesseevalleytheatre@gmail.com. \nLittle Shop Press Release
URL:https://visitrhea.com/event/little-shop-of-horrors/2025-10-10/
LOCATION:Tennessee Valley Theatre\, 184 W Jackson Ave\, Spring City\, Tennessee\, 37381
ATTACH;FMTTYPE=image/jpeg:https://visitrhea.com/wp-content/uploads/2025/09/Little-Shop-Poster.jpg
END:VEVENT
BEGIN:VEVENT
DTSTART;VALUE=DATE:20251011
DTEND;VALUE=DATE:20251012
DTSTAMP:20260420T085137
CREATED:20250724T142040Z
LAST-MODIFIED:20250724T142040Z
UID:10001851-1760140800-1760227199@visitrhea.com
SUMMARY:#7 Lucky 7 Points Race - Fan Appreciation
DESCRIPTION:LM\, Sportsman\, OWM\, SS\, FWD\, B-Sportsman\, Crown Vic
URL:https://visitrhea.com/event/7-lucky-7-points-race-fan-appreciation/
LOCATION:Mountain View Raceway\, 20626 Rhea County Hwy\, Spring City\, TN\, 37381
ATTACH;FMTTYPE=image/jpeg:https://visitrhea.com/wp-content/uploads/2025/07/Mountain-View-Raceway.jpg
END:VEVENT
BEGIN:VEVENT
DTSTART;VALUE=DATE:20251011
DTEND;VALUE=DATE:20251013
DTSTAMP:20260420T085137
CREATED:20250122T172731Z
LAST-MODIFIED:20251001T171107Z
UID:10000406-1760140800-1760313599@visitrhea.com
SUMMARY:Fishing Tournament - Bill Dance Giant Bass Open
DESCRIPTION:Boat Count: 400 \nThe fall swing is about to heat up! Our Lake Chickamauga stop will be here before we know it\, October 11th and 12th! This is gonna be an epic event with more than $55\,000 in hourly cash prizes\, plus somebody is gonna win a Bass Tracker Classic XL for making one perfect cast! Remember\, we pay 8 adults and 8 youth every hour for 7 hours per day. Get signed up and come join in on the fun! Click the link below to get signed up!
URL:https://visitrhea.com/event/fishing-tournament-bill-dance-giant-bass-open/
LOCATION:Bluewater Campground\, 220 Bluewater Campground Road\, Dayton\, Tennessee\, 37321
ATTACH;FMTTYPE=image/png:https://visitrhea.com/wp-content/uploads/2025/01/unnamed.png
END:VEVENT
BEGIN:VEVENT
DTSTART;TZID=UTC:20251011T080000
DTEND;TZID=UTC:20251011T110000
DTSTAMP:20260420T085137
CREATED:20250717T141231Z
LAST-MODIFIED:20250717T141231Z
UID:10001723-1760169600-1760180400@visitrhea.com
SUMMARY:Vets and Kids Breakfast
DESCRIPTION:Second Saturday of every month!
URL:https://visitrhea.com/event/vets-and-kids-breakfast/2025-10-11/
LOCATION:1459 Railroad St\, 1459 Railroad St\, Dayton\, Tennessee\, 37321
END:VEVENT
BEGIN:VEVENT
DTSTART;TZID=UTC:20251011T080000
DTEND;TZID=UTC:20251011T110000
DTSTAMP:20260420T085137
CREATED:20251006T180055Z
LAST-MODIFIED:20251006T183120Z
UID:10002309-1760169600-1760180400@visitrhea.com
SUMMARY:Pancake Breakfast Fundraiser
DESCRIPTION:All You Can Eat! \nBacon\, Eggs\, Sausage Patties\, Biscuits & Gravy; $10 for Adults; Kids 6 and Under $6 \nAt the Local American Legion. 1459 – 2 Railroad Street. Dayton\, TN 37321 \n 
URL:https://visitrhea.com/event/pancake-breakfast-fundraiser-2/
LOCATION:1459 Railroad St\, 1459 Railroad St\, Dayton\, Tennessee\, 37321
ATTACH;FMTTYPE=image/jpeg:https://visitrhea.com/wp-content/uploads/2025/10/Pancake-Fundraiser-scaled.jpg
END:VEVENT
BEGIN:VEVENT
DTSTART;TZID=UTC:20251011T100000
DTEND;TZID=UTC:20251011T170000
DTSTAMP:20260420T085137
CREATED:20250924T162046Z
LAST-MODIFIED:20250924T162318Z
UID:10002196-1760176800-1760202000@visitrhea.com
SUMMARY:Bake Sale & Bazaar
DESCRIPTION:St Bridget Catholic Church is inviting the community to its Annual Fall Bake Sale & Bazaar on Saturday\, October 11\, from 10:00 AM to 5:00 PM.\n\nThis years theme is “Fall into the Holidays”.\n\nSt Bridget’s is located at:\n320 Walnut Grove Church Road\, Dayton\n\nEvent will feature Homemade Baked Goods and Handmade Crafts\, Gifts\, Home Decor\, Starter Plants and more!  We will also have a Silent Auction event with many Unique Gifts offered.\n\nAdmittance is Free.\n\nEvent is Hosted by St Bridget Women’s Council
URL:https://visitrhea.com/event/bake-sale-bazaar/
LOCATION:St. Bridget’s Catholic Church\, 320 Walnut Grove Church Road\, Dayton\, Tennessee\, 37321
ATTACH;FMTTYPE=image/png:https://visitrhea.com/wp-content/uploads/2025/09/Fall-Bake-Sale-Bazzar.png
END:VEVENT
BEGIN:VEVENT
DTSTART;TZID=UTC:20251011T180000
DTEND;TZID=UTC:20251011T210000
DTSTAMP:20260420T085137
CREATED:20250924T163905Z
LAST-MODIFIED:20250924T163905Z
UID:10002215-1760205600-1760216400@visitrhea.com
SUMMARY:Live Music
DESCRIPTION:Live music w/ Junction South 6 pm\nFood truck is The Crust Crab
URL:https://visitrhea.com/event/live-music-60/
LOCATION:Watts Bar Beer Works\, 353 Front St\, Spring City\, TN\, 37381\, United States
END:VEVENT
BEGIN:VEVENT
DTSTART;TZID=UTC:20251011T193000
DTEND;TZID=UTC:20251011T220000
DTSTAMP:20260420T085137
CREATED:20250924T163009Z
LAST-MODIFIED:20250924T163009Z
UID:10002201-1760211000-1760220000@visitrhea.com
SUMMARY:Little Shop of Horrors
DESCRIPTION:Tennessee Valley Theatre presents Little Shop of Horrors by Howard Ashman and Alan Menken \nShowtimes: \nFriday\, October 3\, 2025 @ 7:30 PM \nSaturday\, October 4\, 2025 @ 7:30 PM \nSunday\, October 5\, 2025 @ 2:00 PM \nFriday\, October 10\, 2025 @ 7:30 PM \nSaturday\, October 11\, 2025 @ 7:30 PM \nSunday\, October 12\, 2025 @ 2:00 PM \nIf you would like more information about this release\, please contact the TVT at (423) 365PLAY (7529)\, 865-805-6670 or email at tennesseevalleytheatre@gmail.com. \nLittle Shop Press Release
URL:https://visitrhea.com/event/little-shop-of-horrors/2025-10-11/
LOCATION:Tennessee Valley Theatre\, 184 W Jackson Ave\, Spring City\, Tennessee\, 37381
ATTACH;FMTTYPE=image/jpeg:https://visitrhea.com/wp-content/uploads/2025/09/Little-Shop-Poster.jpg
END:VEVENT
END:VCALENDAR