BEGIN:VCALENDAR
VERSION:2.0
PRODID:-//Rhea County Tourism - ECPv6.15.18//NONSGML v1.0//EN
CALSCALE:GREGORIAN
METHOD:PUBLISH
X-WR-CALNAME:Rhea County Tourism
X-ORIGINAL-URL:https://visitrhea.com
X-WR-CALDESC:Events for Rhea County Tourism
REFRESH-INTERVAL;VALUE=DURATION:PT1H
X-Robots-Tag:noindex
X-PUBLISHED-TTL:PT1H
BEGIN:VTIMEZONE
TZID:UTC
BEGIN:STANDARD
TZOFFSETFROM:+0000
TZOFFSETTO:+0000
TZNAME:UTC
DTSTART:20250101T000000
END:STANDARD
END:VTIMEZONE
BEGIN:VEVENT
DTSTART;TZID=UTC:20260629T070000
DTEND;TZID=UTC:20260629T140000
DTSTAMP:20260420T085057
CREATED:20260330T173836Z
LAST-MODIFIED:20260330T173836Z
UID:10013809-1782716400-1782741600@visitrhea.com
SUMMARY:Free CNA Class
DESCRIPTION:
URL:https://visitrhea.com/event/free-cna-class/2026-06-29/
LOCATION:Tennessee
ATTACH;FMTTYPE=image/jpeg:https://visitrhea.com/wp-content/uploads/2026/03/Free-CNA-Class-scaled.jpg
END:VEVENT
BEGIN:VEVENT
DTSTART;TZID=UTC:20260629T050000
DTEND;TZID=UTC:20260629T060000
DTSTAMP:20260420T085057
CREATED:20260330T173445Z
LAST-MODIFIED:20260330T173445Z
UID:10013553-1782709200-1782712800@visitrhea.com
SUMMARY:The Forge
DESCRIPTION:
URL:https://visitrhea.com/event/the-forge/2026-06-29/
LOCATION:Rhea County Community Center\, 232 4th Avenue\, Dayton\, Tennessee\, 37321
ATTACH;FMTTYPE=image/jpeg:https://visitrhea.com/wp-content/uploads/2026/03/The-Forge-scaled.jpg
END:VEVENT
BEGIN:VEVENT
DTSTART;TZID=UTC:20260627T080000
DTEND;TZID=UTC:20260627T170000
DTSTAMP:20260420T085057
CREATED:20251222T204643Z
LAST-MODIFIED:20251222T204802Z
UID:10002690-1782547200-1782579600@visitrhea.com
SUMMARY:Shake the Lake / TN 250 Bash
DESCRIPTION:
URL:https://visitrhea.com/event/shake-the-lake-tn-250-bash/
LOCATION:Tennessee
END:VEVENT
BEGIN:VEVENT
DTSTART;TZID=UTC:20260627T073000
DTEND;TZID=UTC:20260627T110000
DTSTAMP:20260420T085057
CREATED:20260206T005826Z
LAST-MODIFIED:20260206T005826Z
UID:10002956-1782545400-1782558000@visitrhea.com
SUMMARY:Fly-In\, Drive-In Breakfast
DESCRIPTION:Civil Air Patrol 2A0 (Mark Anton)\, will host a Fly-In\, Drie-In from 7:30 to 11:00 am at the Mark Anton Municipal Airport\, located on New Union Road in Dayton\, on the fourth Saturday of each month. \nThis is an all-you-can-eat breakfast that will be held rain or shine.
URL:https://visitrhea.com/event/fly-in-drive-in-breakfast/2026-06-27/
LOCATION:Mark Anton Municipal Airport\, 350 Walter Squire Rd.\, Dayton\, Tennessee\, 37321
END:VEVENT
BEGIN:VEVENT
DTSTART;VALUE=DATE:20260627
DTEND;VALUE=DATE:20260629
DTSTAMP:20260420T085057
CREATED:20251203T172850Z
LAST-MODIFIED:20260310T160049Z
UID:10002674-1782518400-1782691199@visitrhea.com
SUMMARY:High School Bass Shootout
DESCRIPTION:At Lake Chickamauga (Dayton\, TN) \nOrganized by Wheeler Fishing Foundation \nFor more information\, reach out to: foundation@wheelerfishing.com
URL:https://visitrhea.com/event/high-school-bass-shootout/
LOCATION:Dayton Boat Dock\, 175 Lakeshore Dr\, Dayton\, Tennessee\, 37321
END:VEVENT
BEGIN:VEVENT
DTSTART;TZID=UTC:20260626T183000
DTEND;TZID=UTC:20260626T210000
DTSTAMP:20260420T085057
CREATED:20251222T204235Z
LAST-MODIFIED:20260302T203626Z
UID:10002689-1782498600-1782507600@visitrhea.com
SUMMARY:Nokian Tyres Summer Nights/ TN 250 Bash
DESCRIPTION:
URL:https://visitrhea.com/event/nokian-tyres-summer-nights-tn-250-bash/
LOCATION:Rhea County Courthouse\, 1475 Market Street\, Dayton\, Tennessee\, 37321
END:VEVENT
BEGIN:VEVENT
DTSTART;TZID=UTC:20260626T070000
DTEND;TZID=UTC:20260626T140000
DTSTAMP:20260420T085057
CREATED:20260330T173836Z
LAST-MODIFIED:20260330T173836Z
UID:10013808-1782457200-1782482400@visitrhea.com
SUMMARY:Free CNA Class
DESCRIPTION:
URL:https://visitrhea.com/event/free-cna-class/2026-06-26/
LOCATION:Tennessee
ATTACH;FMTTYPE=image/jpeg:https://visitrhea.com/wp-content/uploads/2026/03/Free-CNA-Class-scaled.jpg
END:VEVENT
BEGIN:VEVENT
DTSTART;TZID=UTC:20260626T050000
DTEND;TZID=UTC:20260626T060000
DTSTAMP:20260420T085057
CREATED:20260330T173445Z
LAST-MODIFIED:20260330T173445Z
UID:10013552-1782450000-1782453600@visitrhea.com
SUMMARY:The Forge
DESCRIPTION:
URL:https://visitrhea.com/event/the-forge/2026-06-26/
LOCATION:Rhea County Community Center\, 232 4th Avenue\, Dayton\, Tennessee\, 37321
ATTACH;FMTTYPE=image/jpeg:https://visitrhea.com/wp-content/uploads/2026/03/The-Forge-scaled.jpg
END:VEVENT
BEGIN:VEVENT
DTSTART;TZID=UTC:20260625T120000
DTEND;TZID=UTC:20260625T130000
DTSTAMP:20260420T085057
CREATED:20250527T195537Z
LAST-MODIFIED:20260107T180013Z
UID:10001464-1782388800-1782392400@visitrhea.com
SUMMARY:Dayton Chamber Meet & Greet
DESCRIPTION:Fourth Thursday of each month\, Dayton Chamber Meet & Greet \nSchedule subject to change; check the website calendar to verify the location.
URL:https://visitrhea.com/event/dayton-chamber-meet-greet-2/2026-06-25/
LOCATION:Tennessee
ATTACH;FMTTYPE=image/jpeg:https://visitrhea.com/wp-content/uploads/2025/05/DCOC-Chamber-Meet.jpg
END:VEVENT
BEGIN:VEVENT
DTSTART;TZID=UTC:20260625T100000
DTEND;TZID=UTC:20260625T120000
DTSTAMP:20260420T085057
CREATED:20260330T180721Z
LAST-MODIFIED:20260330T180721Z
UID:10014084-1782381600-1782388800@visitrhea.com
SUMMARY:Take Charge of Your Diabetes
DESCRIPTION:
URL:https://visitrhea.com/event/take-charge-of-your-diabetes/2026-06-25/
LOCATION:UT Extension Rhea County Office\, 125 Court Street Suite 3\, Dayton\, Tennessee\, 37321
ATTACH;FMTTYPE=image/png:https://visitrhea.com/wp-content/uploads/2026/03/Diabetes-Class.png
END:VEVENT
BEGIN:VEVENT
DTSTART;TZID=UTC:20260625T070000
DTEND;TZID=UTC:20260625T140000
DTSTAMP:20260420T085057
CREATED:20260330T173836Z
LAST-MODIFIED:20260330T173836Z
UID:10013807-1782370800-1782396000@visitrhea.com
SUMMARY:Free CNA Class
DESCRIPTION:
URL:https://visitrhea.com/event/free-cna-class/2026-06-25/
LOCATION:Tennessee
ATTACH;FMTTYPE=image/jpeg:https://visitrhea.com/wp-content/uploads/2026/03/Free-CNA-Class-scaled.jpg
END:VEVENT
BEGIN:VEVENT
DTSTART;TZID=UTC:20260624T093000
DTEND;TZID=UTC:20260624T113000
DTSTAMP:20260420T085057
CREATED:20251029T162438Z
LAST-MODIFIED:20251029T162507Z
UID:10002445-1782293400-1782300600@visitrhea.com
SUMMARY:Preschool Story Hour
DESCRIPTION:Ages 3-6 \nat 9:30 am & 10:30 am
URL:https://visitrhea.com/event/preschool-story-hour-6/2026-06-24/
LOCATION:Clyde W Roddy Library\, 371 1st Avenue\, Dayton\, Tennessee\, 37321
ATTACH;FMTTYPE=image/jpeg:https://visitrhea.com/wp-content/uploads/2025/10/preschool.jpg
END:VEVENT
BEGIN:VEVENT
DTSTART;TZID=UTC:20260624T093000
DTEND;TZID=UTC:20260624T113000
DTSTAMP:20260420T085057
CREATED:20251001T174848Z
LAST-MODIFIED:20251001T175402Z
UID:10002272-1782293400-1782300600@visitrhea.com
SUMMARY:Preschool Story Hour
DESCRIPTION:Ages 3-6 \nat 9:30 am & 10:30 am
URL:https://visitrhea.com/event/preschool-story-hour-5/2026-06-24/
LOCATION:Clyde W Roddy Library\, 371 1st Avenue\, Dayton\, Tennessee\, 37321
ATTACH;FMTTYPE=image/jpeg:https://visitrhea.com/wp-content/uploads/2025/10/preschool.jpg
END:VEVENT
BEGIN:VEVENT
DTSTART;TZID=UTC:20260624T093000
DTEND;TZID=UTC:20260624T103000
DTSTAMP:20260420T085057
CREATED:20260206T010535Z
LAST-MODIFIED:20260206T010636Z
UID:10003100-1782293400-1782297000@visitrhea.com
SUMMARY:Lil Llama Storytime
DESCRIPTION:for ages 5 and under
URL:https://visitrhea.com/event/lil-llama-storytime-2/2026-06-24/
LOCATION:Audrey Pack Memorial Library\, 169 W Rhea Avenue\, Spring City\, Tennessee\, 37381
END:VEVENT
BEGIN:VEVENT
DTSTART;TZID=UTC:20260624T070000
DTEND;TZID=UTC:20260624T140000
DTSTAMP:20260420T085057
CREATED:20260330T173836Z
LAST-MODIFIED:20260330T173836Z
UID:10013806-1782284400-1782309600@visitrhea.com
SUMMARY:Free CNA Class
DESCRIPTION:
URL:https://visitrhea.com/event/free-cna-class/2026-06-24/
LOCATION:Tennessee
ATTACH;FMTTYPE=image/jpeg:https://visitrhea.com/wp-content/uploads/2026/03/Free-CNA-Class-scaled.jpg
END:VEVENT
BEGIN:VEVENT
DTSTART;TZID=UTC:20260624T050000
DTEND;TZID=UTC:20260624T060000
DTSTAMP:20260420T085057
CREATED:20260330T173445Z
LAST-MODIFIED:20260330T173445Z
UID:10013551-1782277200-1782280800@visitrhea.com
SUMMARY:The Forge
DESCRIPTION:
URL:https://visitrhea.com/event/the-forge/2026-06-24/
LOCATION:Rhea County Community Center\, 232 4th Avenue\, Dayton\, Tennessee\, 37321
ATTACH;FMTTYPE=image/jpeg:https://visitrhea.com/wp-content/uploads/2026/03/The-Forge-scaled.jpg
END:VEVENT
BEGIN:VEVENT
DTSTART;TZID=UTC:20260623T190000
DTEND;TZID=UTC:20260623T200000
DTSTAMP:20260420T085057
CREATED:20260119T174034Z
LAST-MODIFIED:20260119T174034Z
UID:10002837-1782241200-1782244800@visitrhea.com
SUMMARY:Constitution Alive! Guide to Constitution
DESCRIPTION:Prepare for the 250th Anniversary!\nTuesdays\, Jan 27th to April 7th at 7:00 pm.\nThis 11-part series will be an in-depth study of the U. S. Constitution by David Barton (WallBuilders) and Rick Green (Patriots’ Academy). We encourage families to attend and share the experience.
URL:https://visitrhea.com/event/constitution-alive-guide-to-constitution/2026-06-23/
LOCATION:Dayton American Legion\, 1459-2 Railroad Street\, Dayton\, TN
END:VEVENT
BEGIN:VEVENT
DTSTART;TZID=UTC:20260623T173000
DTEND;TZID=UTC:20260623T183000
DTSTAMP:20260420T085057
CREATED:20260311T135902Z
LAST-MODIFIED:20260311T135902Z
UID:10013459-1782235800-1782239400@visitrhea.com
SUMMARY:Rhea County Planning Commission Meeting
DESCRIPTION:
URL:https://visitrhea.com/event/rhea-county-planning-commission-meeting-4/
LOCATION:Tennessee
END:VEVENT
BEGIN:VEVENT
DTSTART;TZID=UTC:20260623T103000
DTEND;TZID=UTC:20260623T120000
DTSTAMP:20260420T085057
CREATED:20250805T144035Z
LAST-MODIFIED:20250805T144035Z
UID:10002085-1782210600-1782216000@visitrhea.com
SUMMARY:Rc3 Fall Homeschool P.E.
DESCRIPTION:Join Rc3 for a 10-week program of activity and healthy bodies! \nAges K – 6th \ncall 423-775-0821 for more information
URL:https://visitrhea.com/event/rc3-fall-homeschool-p-e/2026-06-23/
LOCATION:Rhea County Community Center\, 232 4th Avenue\, Dayton\, Tennessee\, 37321
ATTACH;FMTTYPE=image/jpeg:https://visitrhea.com/wp-content/uploads/2025/08/Fall-Homeschool-P.E-scaled.jpg
END:VEVENT
BEGIN:VEVENT
DTSTART;TZID=UTC:20260623T100000
DTEND;TZID=UTC:20260623T120000
DTSTAMP:20260420T085057
CREATED:20260327T150051Z
LAST-MODIFIED:20260327T150051Z
UID:10013507-1782208800-1782216000@visitrhea.com
SUMMARY:Interactive Science Lab
DESCRIPTION:Summer Reading Program Day 3 \nDoDaDs Lab
URL:https://visitrhea.com/event/interactive-science-lab/
LOCATION:Audrey Pack Memorial Library\, 169 W Rhea Avenue\, Spring City\, Tennessee\, 37381
ATTACH;FMTTYPE=image/jpeg:https://visitrhea.com/wp-content/uploads/2026/03/Summer-Lab.jpg
END:VEVENT
BEGIN:VEVENT
DTSTART;TZID=UTC:20260623T070000
DTEND;TZID=UTC:20260623T140000
DTSTAMP:20260420T085057
CREATED:20260330T173836Z
LAST-MODIFIED:20260330T173836Z
UID:10013805-1782198000-1782223200@visitrhea.com
SUMMARY:Free CNA Class
DESCRIPTION:
URL:https://visitrhea.com/event/free-cna-class/2026-06-23/
LOCATION:Tennessee
ATTACH;FMTTYPE=image/jpeg:https://visitrhea.com/wp-content/uploads/2026/03/Free-CNA-Class-scaled.jpg
END:VEVENT
BEGIN:VEVENT
DTSTART;TZID=UTC:20260622T070000
DTEND;TZID=UTC:20260622T140000
DTSTAMP:20260420T085057
CREATED:20260330T173836Z
LAST-MODIFIED:20260330T173836Z
UID:10013804-1782111600-1782136800@visitrhea.com
SUMMARY:Free CNA Class
DESCRIPTION:
URL:https://visitrhea.com/event/free-cna-class/2026-06-22/
LOCATION:Tennessee
ATTACH;FMTTYPE=image/jpeg:https://visitrhea.com/wp-content/uploads/2026/03/Free-CNA-Class-scaled.jpg
END:VEVENT
BEGIN:VEVENT
DTSTART;TZID=UTC:20260622T050000
DTEND;TZID=UTC:20260622T060000
DTSTAMP:20260420T085057
CREATED:20260330T173445Z
LAST-MODIFIED:20260330T173445Z
UID:10013550-1782104400-1782108000@visitrhea.com
SUMMARY:The Forge
DESCRIPTION:
URL:https://visitrhea.com/event/the-forge/2026-06-22/
LOCATION:Rhea County Community Center\, 232 4th Avenue\, Dayton\, Tennessee\, 37321
ATTACH;FMTTYPE=image/jpeg:https://visitrhea.com/wp-content/uploads/2026/03/The-Forge-scaled.jpg
END:VEVENT
BEGIN:VEVENT
DTSTART;TZID=UTC:20260620T160000
DTEND;TZID=UTC:20260620T180000
DTSTAMP:20260420T085057
CREATED:20260310T143758Z
LAST-MODIFIED:20260310T143820Z
UID:10013439-1781971200-1781978400@visitrhea.com
SUMMARY:Summer Solstice Luau
DESCRIPTION:Kick off summer with island vibes\, tropical flavors\, and lakeside fun! Celebrate the longest day of the year with a vibrant luau featuring live music\, tiki drinks\, flower leis\, a limbo contest\, and plenty of sunshine. Whether you’re dancing barefoot or relaxing by the fire\, it’s the ultimate way to welcome summer.
URL:https://visitrhea.com/event/summer-solstice-luau/
LOCATION:Shelter Cove Marina & Campground\, 694 Scenic Lakeview Dr\, Spring City\, Tennessee\, 37381
ATTACH;FMTTYPE=image/png:https://visitrhea.com/wp-content/uploads/2026/03/Summer-Solstice-Luau.png
END:VEVENT
BEGIN:VEVENT
DTSTART;TZID=UTC:20260620T100000
DTEND;TZID=UTC:20260620T170000
DTSTAMP:20260420T085057
CREATED:20260327T145528Z
LAST-MODIFIED:20260327T145528Z
UID:10013506-1781949600-1781974800@visitrhea.com
SUMMARY:Winsome Summer Stroll
DESCRIPTION:
URL:https://visitrhea.com/event/winsome-summer-stroll/
LOCATION:Winsome Stroll Market\, 18972 Rhea County Hwy\, Spring City\, Tennessee\, 37381
ATTACH;FMTTYPE=image/jpeg:https://visitrhea.com/wp-content/uploads/2026/03/Summer-Stroll.jpg
END:VEVENT
BEGIN:VEVENT
DTSTART;TZID=UTC:20260619T183000
DTEND;TZID=UTC:20260619T210000
DTSTAMP:20260420T085057
CREATED:20251222T204008Z
LAST-MODIFIED:20260302T203904Z
UID:10002688-1781893800-1781902800@visitrhea.com
SUMMARY:Nokian Tyres Summer Nights
DESCRIPTION:
URL:https://visitrhea.com/event/nokian-tyres-summer-nights-5/
LOCATION:Rhea County Courthouse\, 1475 Market Street\, Dayton\, Tennessee\, 37321
END:VEVENT
BEGIN:VEVENT
DTSTART;TZID=UTC:20260619T150000
DTEND;TZID=UTC:20260619T160000
DTSTAMP:20260420T085057
CREATED:20260206T011205Z
LAST-MODIFIED:20260206T011205Z
UID:10003220-1781881200-1781884800@visitrhea.com
SUMMARY:Creative Crayons
DESCRIPTION:grades 2 -5
URL:https://visitrhea.com/event/creative-crayons/2026-06-19/
LOCATION:Audrey Pack Memorial Library\, 169 W Rhea Avenue\, Spring City\, Tennessee\, 37381
END:VEVENT
BEGIN:VEVENT
DTSTART;TZID=UTC:20260619T070000
DTEND;TZID=UTC:20260619T140000
DTSTAMP:20260420T085057
CREATED:20260330T173836Z
LAST-MODIFIED:20260330T173836Z
UID:10013803-1781852400-1781877600@visitrhea.com
SUMMARY:Free CNA Class
DESCRIPTION:
URL:https://visitrhea.com/event/free-cna-class/2026-06-19/
LOCATION:Tennessee
ATTACH;FMTTYPE=image/jpeg:https://visitrhea.com/wp-content/uploads/2026/03/Free-CNA-Class-scaled.jpg
END:VEVENT
BEGIN:VEVENT
DTSTART;TZID=UTC:20260619T050000
DTEND;TZID=UTC:20260619T060000
DTSTAMP:20260420T085057
CREATED:20260330T173445Z
LAST-MODIFIED:20260330T173445Z
UID:10013549-1781845200-1781848800@visitrhea.com
SUMMARY:The Forge
DESCRIPTION:
URL:https://visitrhea.com/event/the-forge/2026-06-19/
LOCATION:Rhea County Community Center\, 232 4th Avenue\, Dayton\, Tennessee\, 37321
ATTACH;FMTTYPE=image/jpeg:https://visitrhea.com/wp-content/uploads/2026/03/The-Forge-scaled.jpg
END:VEVENT
BEGIN:VEVENT
DTSTART;TZID=UTC:20260618T100000
DTEND;TZID=UTC:20260618T120000
DTSTAMP:20260420T085057
CREATED:20260330T180721Z
LAST-MODIFIED:20260330T180721Z
UID:10014083-1781776800-1781784000@visitrhea.com
SUMMARY:Take Charge of Your Diabetes
DESCRIPTION:
URL:https://visitrhea.com/event/take-charge-of-your-diabetes/2026-06-18/
LOCATION:UT Extension Rhea County Office\, 125 Court Street Suite 3\, Dayton\, Tennessee\, 37321
ATTACH;FMTTYPE=image/png:https://visitrhea.com/wp-content/uploads/2026/03/Diabetes-Class.png
END:VEVENT
END:VCALENDAR